BEGIN:VCALENDAR
VERSION:2.0
PRODID:-//American Fire Sprinkler Association - ECPv6.15.20//NONSGML v1.0//EN
CALSCALE:GREGORIAN
METHOD:PUBLISH
X-ORIGINAL-URL:https://firesprinkler.org
X-WR-CALDESC:Events for American Fire Sprinkler Association
REFRESH-INTERVAL;VALUE=DURATION:PT1H
X-Robots-Tag:noindex
X-PUBLISHED-TTL:PT1H
BEGIN:VTIMEZONE
TZID:UTC
BEGIN:STANDARD
TZOFFSETFROM:+0000
TZOFFSETTO:+0000
TZNAME:UTC
DTSTART:20210101T000000
END:STANDARD
END:VTIMEZONE
BEGIN:VEVENT
DTSTART;VALUE=DATE:20221205
DTEND;VALUE=DATE:20221208
DTSTAMP:20260421T170812
CREATED:20220428T202951Z
LAST-MODIFIED:20221028T205717Z
UID:10000146-1670198400-1670457599@firesprinkler.org
SUMMARY:Hands-On Course for Inspection\, Testing & Maintenance of Water-based Fire Protection Systems
DESCRIPTION:This class will provide a 3-day hands-on review of the inspection\, testing\, and maintenance (ITM) requirements for sprinkler systems\, standpipe systems\, fire pumps\, and common components for water-based fire protection systems through classroom-based review and hands-on demonstrations and practice. Half of the course includes a classroom-based review and the other half consists of hands-on demonstrations and practice. Specific hands-on tests will vary and may include main drain test; valve status test; dry system trip test; preaction/deluge trip test; resetting dry and preaction/deluge valves; weekly\, monthly\, and annual fire pump tests; and air supplies (air compressors and nitrogen generators). \nLearning Objectives: \nUpon completion\, participants will be able to: \n\n Identify the required periodic inspection\, testing\, and maintenance requirements for water-based fire protection systems and system components.\nPerform the required periodic inspection\, testing\, and maintenance requirements for water-based fire protection systems and system components.\nInterpret the results from periodic inspection\, testing\, and maintenance activities.\n\nAFSA Provides: \n\nHandout slides\nThree copies of the hydraulic graph\nOne NFPA Inspection form per student\nOne notebook per student\nAFSA Pens\nAFSA scales\nPhysical copy of NFPA 25\, 2020 edition\n\nCredits & Approvals: \n\nCPDs: 22.5\nCEUs: 2.25\nContact Hours: 22.5\nFL Approval: FP17079-22.5 (expires July 2022)\n\n\n\n\nContractor I\, II\, III & WB Inspector\nThis course is approved for credit by the Florida Fire Safety Board.\n\n\n\n  \nMore Info & Register
URL:https://firesprinkler.org/calendarevent/hands-on-course-for-inspection-testing-maintenance-of-water-based-fire-protection-systems/
LOCATION:JCI Training Center\, 1467 Elmwood Ave.\, Cranston\, RI\, 02910\, United States
ATTACH;FMTTYPE=image/jpeg:https://firesprinkler.org/wp-content/uploads/2022/03/hospitalfirecontrolsystem-scaled.jpg
ORGANIZER;CN="AFSA":MAILTO:training@firesprinkler.org
END:VEVENT
END:VCALENDAR