BEGIN:VCALENDAR
VERSION:2.0
PRODID:-//American Fire Sprinkler Association - ECPv6.15.20//NONSGML v1.0//EN
CALSCALE:GREGORIAN
METHOD:PUBLISH
X-WR-CALNAME:American Fire Sprinkler Association
X-ORIGINAL-URL:https://firesprinkler.org
X-WR-CALDESC:Events for American Fire Sprinkler Association
REFRESH-INTERVAL;VALUE=DURATION:PT1H
X-Robots-Tag:noindex
X-PUBLISHED-TTL:PT1H
BEGIN:VTIMEZONE
TZID:America/Chicago
BEGIN:DAYLIGHT
TZOFFSETFROM:-0600
TZOFFSETTO:-0500
TZNAME:CDT
DTSTART:20240310T080000
END:DAYLIGHT
BEGIN:STANDARD
TZOFFSETFROM:-0500
TZOFFSETTO:-0600
TZNAME:CST
DTSTART:20241103T070000
END:STANDARD
BEGIN:DAYLIGHT
TZOFFSETFROM:-0600
TZOFFSETTO:-0500
TZNAME:CDT
DTSTART:20250309T080000
END:DAYLIGHT
BEGIN:STANDARD
TZOFFSETFROM:-0500
TZOFFSETTO:-0600
TZNAME:CST
DTSTART:20251102T070000
END:STANDARD
BEGIN:DAYLIGHT
TZOFFSETFROM:-0600
TZOFFSETTO:-0500
TZNAME:CDT
DTSTART:20260308T080000
END:DAYLIGHT
BEGIN:STANDARD
TZOFFSETFROM:-0500
TZOFFSETTO:-0600
TZNAME:CST
DTSTART:20261101T070000
END:STANDARD
END:VTIMEZONE
BEGIN:VEVENT
DTSTART;TZID=America/Chicago:20250806T110000
DTEND;TZID=America/Chicago:20250806T120000
DTSTAMP:20260421T123620
CREATED:20250213T161957Z
LAST-MODIFIED:20250213T162532Z
UID:10000593-1754478000-1754481600@firesprinkler.org
SUMMARY:Calculating Supplemental Sprinklers
DESCRIPTION:The concept of “Supplemental Sprinklers” was introduced in the 2025 edition of NFPA 13\, Standard for the Installation of Sprinkler Systems. The new requirements help to clarify legacy requirements that were inferred throughout the standard and create more options for designers to tackle challenging layout schemes in storage and non-storage occupancies. \nThe registration deadline is 11:59 PM the day before the webinar. \n  \n Register & More Info
URL:https://firesprinkler.org/calendarevent/calculating-supplemental-sprinklers/
LOCATION:Online Webinar
CATEGORIES:Webinar
ATTACH;FMTTYPE=image/jpeg:https://firesprinkler.org/wp-content/uploads/2022/04/live_Webinar.jpg
END:VEVENT
BEGIN:VEVENT
DTSTART;TZID=America/Chicago:20250820T110000
DTEND;TZID=America/Chicago:20250820T170000
DTSTAMP:20260421T123620
CREATED:20250609T180515Z
LAST-MODIFIED:20250624T154800Z
UID:10000631-1755687600-1755709200@firesprinkler.org
SUMMARY:Protection of Aircraft Hangars
DESCRIPTION:This presentation will provide an overview of how research and data analysis helped shape the fire protection system requirements in NFPA 409 (2022 edition) to allow consideration of automatic sprinklers as part of a viable fire protection solution. \n Register & More Info\n 
URL:https://firesprinkler.org/calendarevent/protection-of-aircraft-hangars/
LOCATION:Online Webinar
CATEGORIES:Webinar
ATTACH;FMTTYPE=image/jpeg:https://firesprinkler.org/wp-content/uploads/2022/04/live_Webinar.jpg
END:VEVENT
BEGIN:VEVENT
DTSTART;VALUE=DATE:20250825
DTEND;VALUE=DATE:20250827
DTSTAMP:20260421T123620
CREATED:20241010T154440Z
LAST-MODIFIED:20250313T213644Z
UID:10000528-1756080000-1756252799@firesprinkler.org
SUMMARY:NFPA 25 Essentials Workshop
DESCRIPTION:The NFPA 25 Essentials Workshop course is designed to provide participants with a comprehensive understanding of the essential procedures and best practices for ensuring the proper functioning and reliability of sprinkler systems based on NFPA 25\, Standard for the Inspection\, Testing\, and Maintenance of Water-Based Fire Protection Systems. \n Learn More & Register
URL:https://firesprinkler.org/calendarevent/beginning-itm-workshop-5/
LOCATION:AFSA Headquarters\, 1410 East Renner Rd.\, Suite 150\, Richardson\, TX\, 75082\, United States
ATTACH;FMTTYPE=image/jpeg:https://firesprinkler.org/wp-content/uploads/2024/10/man_Riser_Wide-1.jpg
ORGANIZER;CN="AFSA":MAILTO:training@firesprinkler.org
END:VEVENT
BEGIN:VEVENT
DTSTART;VALUE=DATE:20250825
DTEND;VALUE=DATE:20250828
DTSTAMP:20260421T123620
CREATED:20241010T140506Z
LAST-MODIFIED:20241010T150119Z
UID:10000516-1756080000-1756339199@firesprinkler.org
SUMMARY:Advanced Hydraulic Calculations
DESCRIPTION:This three-day\, in-person workshop provides a deep dive into advanced hydraulic principles for standpipe systems\, fire pump assemblies\, and water storage tanks. Students will receive classroom instruction\, work through examples\, and complete practice exercises. \n Learn More & Register
URL:https://firesprinkler.org/calendarevent/advanced-hydraulic-calculations/
LOCATION:AFSA Headquarters\, 1410 East Renner Rd.\, Suite 150\, Richardson\, TX\, 75082\, United States
ATTACH;FMTTYPE=image/jpeg:https://firesprinkler.org/wp-content/uploads/2022/07/code_computer.jpg
ORGANIZER;CN="AFSA":MAILTO:training@firesprinkler.org
END:VEVENT
BEGIN:VEVENT
DTSTART;VALUE=DATE:20250827
DTEND;VALUE=DATE:20250829
DTSTAMP:20260421T123620
CREATED:20241010T172105Z
LAST-MODIFIED:20250313T152018Z
UID:10000532-1756252800-1756425599@firesprinkler.org
SUMMARY:NFPA 25 Fire Pump Workshop
DESCRIPTION:The NFPA 25 Fire Pump Workshop is designed to provide ITM technicians\, Authorities Having Jurisdiction (AHJs)\, and facilities managers with comprehensive knowledge and practical skills related to fire pump installations and the necessary ITM procedures. \n Learn More & Register
URL:https://firesprinkler.org/calendarevent/fire-pump-itm-workshop-8/
LOCATION:AFSA Headquarters\, 1410 East Renner Rd.\, Suite 150\, Richardson\, TX\, 75082\, United States
ATTACH;FMTTYPE=image/jpeg:https://firesprinkler.org/wp-content/uploads/2024/10/IMG_2301.jpg
ORGANIZER;CN="AFSA":MAILTO:training@firesprinkler.org
END:VEVENT
END:VCALENDAR