BEGIN:VCALENDAR
VERSION:2.0
PRODID:-//American Fire Sprinkler Association - ECPv6.15.20//NONSGML v1.0//EN
CALSCALE:GREGORIAN
METHOD:PUBLISH
X-WR-CALNAME:American Fire Sprinkler Association
X-ORIGINAL-URL:https://firesprinkler.org
X-WR-CALDESC:Events for American Fire Sprinkler Association
REFRESH-INTERVAL;VALUE=DURATION:PT1H
X-Robots-Tag:noindex
X-PUBLISHED-TTL:PT1H
BEGIN:VTIMEZONE
TZID:America/Chicago
BEGIN:DAYLIGHT
TZOFFSETFROM:-0600
TZOFFSETTO:-0500
TZNAME:CDT
DTSTART:20240310T080000
END:DAYLIGHT
BEGIN:STANDARD
TZOFFSETFROM:-0500
TZOFFSETTO:-0600
TZNAME:CST
DTSTART:20241103T070000
END:STANDARD
BEGIN:DAYLIGHT
TZOFFSETFROM:-0600
TZOFFSETTO:-0500
TZNAME:CDT
DTSTART:20250309T080000
END:DAYLIGHT
BEGIN:STANDARD
TZOFFSETFROM:-0500
TZOFFSETTO:-0600
TZNAME:CST
DTSTART:20251102T070000
END:STANDARD
BEGIN:DAYLIGHT
TZOFFSETFROM:-0600
TZOFFSETTO:-0500
TZNAME:CDT
DTSTART:20260308T080000
END:DAYLIGHT
BEGIN:STANDARD
TZOFFSETFROM:-0500
TZOFFSETTO:-0600
TZNAME:CST
DTSTART:20261101T070000
END:STANDARD
END:VTIMEZONE
BEGIN:VTIMEZONE
TZID:America/New_York
BEGIN:DAYLIGHT
TZOFFSETFROM:-0500
TZOFFSETTO:-0400
TZNAME:EDT
DTSTART:20240310T070000
END:DAYLIGHT
BEGIN:STANDARD
TZOFFSETFROM:-0400
TZOFFSETTO:-0500
TZNAME:EST
DTSTART:20241103T060000
END:STANDARD
BEGIN:DAYLIGHT
TZOFFSETFROM:-0500
TZOFFSETTO:-0400
TZNAME:EDT
DTSTART:20250309T070000
END:DAYLIGHT
BEGIN:STANDARD
TZOFFSETFROM:-0400
TZOFFSETTO:-0500
TZNAME:EST
DTSTART:20251102T060000
END:STANDARD
BEGIN:DAYLIGHT
TZOFFSETFROM:-0500
TZOFFSETTO:-0400
TZNAME:EDT
DTSTART:20260308T070000
END:DAYLIGHT
BEGIN:STANDARD
TZOFFSETFROM:-0400
TZOFFSETTO:-0500
TZNAME:EST
DTSTART:20261101T060000
END:STANDARD
END:VTIMEZONE
BEGIN:VEVENT
DTSTART;TZID=America/Chicago:20250611T110000
DTEND;TZID=America/Chicago:20250611T120000
DTSTAMP:20260421T153238
CREATED:20250423T174106Z
LAST-MODIFIED:20250624T154800Z
UID:10000622-1749639600-1749643200@firesprinkler.org
SUMMARY:ITM of Standpipe Systems (AHJ)
DESCRIPTION:Join us for a comprehensive webinar on the inspection\, testing\, and maintenance requirements of standpipe systems and their components. We’ll explore the key details from Chapters 6 and 13 of NFPA 25\, offering insights into compliance and operational best practices. Gain an understanding of the essential equipment needed to meet these requirements and ensure your systems are reliable and up to code. \nThis webinar is ICC approved. \n  \n Register & More Info
URL:https://firesprinkler.org/calendarevent/itm-of-standpipe-systems-ahj/
LOCATION:Online Webinar
CATEGORIES:Webinar
ATTACH;FMTTYPE=image/jpeg:https://firesprinkler.org/wp-content/uploads/2022/04/live_Webinar.jpg
END:VEVENT
BEGIN:VEVENT
DTSTART;VALUE=DATE:20250626
DTEND;VALUE=DATE:20250627
DTSTAMP:20260421T153238
CREATED:20250402T210334Z
LAST-MODIFIED:20250402T210334Z
UID:10000614-1750896000-1750982399@firesprinkler.org
SUMMARY:ASSE 15010 Recertification Class
DESCRIPTION:Register for the American Fire Sprinkler Association’s ASSE 15010 Recertification Class to maintain your certification in Inspection\, Testing\, and Maintenance (ITM) of Water-Based Fire Protection. \n  \n Register & More Info
URL:https://firesprinkler.org/calendarevent/asse-15010-recertification-class/
LOCATION:General Air Products\, 115 Summit Dr\, Exton\, PA 19341\, USA
ATTACH;FMTTYPE=image/jpeg:https://firesprinkler.org/wp-content/uploads/2024/03/Intermediate_ITM_Workshop.jpg
END:VEVENT
END:VCALENDAR