BEGIN:VCALENDAR
VERSION:2.0
PRODID:-//American Fire Sprinkler Association - ECPv6.15.20//NONSGML v1.0//EN
CALSCALE:GREGORIAN
METHOD:PUBLISH
X-ORIGINAL-URL:https://firesprinkler.org
X-WR-CALDESC:Events for American Fire Sprinkler Association
REFRESH-INTERVAL;VALUE=DURATION:PT1H
X-Robots-Tag:noindex
X-PUBLISHED-TTL:PT1H
BEGIN:VTIMEZONE
TZID:America/Chicago
BEGIN:DAYLIGHT
TZOFFSETFROM:-0600
TZOFFSETTO:-0500
TZNAME:CDT
DTSTART:20240310T080000
END:DAYLIGHT
BEGIN:STANDARD
TZOFFSETFROM:-0500
TZOFFSETTO:-0600
TZNAME:CST
DTSTART:20241103T070000
END:STANDARD
BEGIN:DAYLIGHT
TZOFFSETFROM:-0600
TZOFFSETTO:-0500
TZNAME:CDT
DTSTART:20250309T080000
END:DAYLIGHT
BEGIN:STANDARD
TZOFFSETFROM:-0500
TZOFFSETTO:-0600
TZNAME:CST
DTSTART:20251102T070000
END:STANDARD
BEGIN:DAYLIGHT
TZOFFSETFROM:-0600
TZOFFSETTO:-0500
TZNAME:CDT
DTSTART:20260308T080000
END:DAYLIGHT
BEGIN:STANDARD
TZOFFSETFROM:-0500
TZOFFSETTO:-0600
TZNAME:CST
DTSTART:20261101T070000
END:STANDARD
END:VTIMEZONE
BEGIN:VEVENT
DTSTART;TZID=America/Chicago:20250402T110000
DTEND;TZID=America/Chicago:20250402T120000
DTSTAMP:20260421T183008
CREATED:20250213T153904Z
LAST-MODIFIED:20250221T191340Z
UID:10000588-1743591600-1743595200@firesprinkler.org
SUMMARY:Impairment Procedures (Fitter Zone)
DESCRIPTION:This webinar breaks down the key requirements outlined in Chapter 15 of NFPA 25. We’ll explore the roles and responsibilities of all parties involved in the impairment process\, providing clarity on each individual’s duties. Explore real-world examples and discuss proper documentation and communication that needs to happen during various stages of the impairment process. \nThe registration deadline is 11:59 PM the day before the webinar. \n  \n Register & More Info\n  \nThis webinar is CAL-FIRE Approved.
URL:https://firesprinkler.org/calendarevent/impairment-procedures-fitter-zone/
LOCATION:Online Webinar
CATEGORIES:Fitter Zone,Webinar
ATTACH;FMTTYPE=image/jpeg:https://firesprinkler.org/wp-content/uploads/2021/06/Fitter_zone_Logo.jpg
END:VEVENT
BEGIN:VEVENT
DTSTART;VALUE=DATE:20250409
DTEND;VALUE=DATE:20250412
DTSTAMP:20260421T183008
CREATED:20241010T162907Z
LAST-MODIFIED:20250313T213550Z
UID:10000529-1744156800-1744415999@firesprinkler.org
SUMMARY:NFPA 25 Advanced Systems Workshop
DESCRIPTION:The NFPA 25 Advanced Systems Workshop is designed to enhance the skills and knowledge of fire protection professionals\, technicians\, and individuals responsible for the comprehensive maintenance and compliance of fire sprinkler systems. \n Learn More & Register
URL:https://firesprinkler.org/calendarevent/intermediate-itm-workshop-5/
LOCATION:AFSA Headquarters\, 1410 East Renner Rd.\, Suite 150\, Richardson\, TX\, 75082\, United States
ATTACH;FMTTYPE=image/jpeg:https://firesprinkler.org/wp-content/uploads/2024/10/Intermediate_ITM-Workshop.jpg
ORGANIZER;CN="AFSA":MAILTO:training@firesprinkler.org
END:VEVENT
BEGIN:VEVENT
DTSTART;TZID=America/Chicago:20250417T110000
DTEND;TZID=America/Chicago:20250417T120000
DTSTAMP:20260421T183008
CREATED:20250221T193320Z
LAST-MODIFIED:20250221T193320Z
UID:10000599-1744887600-1744891200@firesprinkler.org
SUMMARY:Corrosion in Sprinkler Systems: A Look at a Long-Term Experiment
DESCRIPTION:Internal corrosion of fire sprinkler systems is a major concern in the reliability and life of the system(s). Corrosion in sprinkler systems can affect the system’s hydraulics and cause system leakage\, which may result in property damage\, as well as significant replacement costs. Fire sprinkler systems are subject to deterioration through different forms of corrosion. This webinar looks at the types of corrosion that occur in sprinkler systems\, different methods of mitigating corrosion\, and an overview and update to the long-term corrosion research project at Oklahoma State University. \nThe registration deadline is 11:59 PM the day before the webinar. \n Register & More Info\n  \n 
URL:https://firesprinkler.org/calendarevent/corrosion-in-sprinkler-systems-a-look-at-a-long-term-experiment/
LOCATION:Online Webinar
CATEGORIES:Webinar
ATTACH;FMTTYPE=image/jpeg:https://firesprinkler.org/wp-content/uploads/2022/04/live_Webinar.jpg
ORGANIZER;CN="AFSA":MAILTO:training@firesprinkler.org
END:VEVENT
BEGIN:VEVENT
DTSTART;VALUE=DATE:20250422
DTEND;VALUE=DATE:20250423
DTSTAMP:20260421T183008
CREATED:20250417T182206Z
LAST-MODIFIED:20250417T182206Z
UID:10000619-1745280000-1745366399@firesprinkler.org
SUMMARY:Louisiana Chapter Training
DESCRIPTION:The Louisiana Chapter is offering a full day of training. \n Register & More Info
URL:https://firesprinkler.org/calendarevent/louisiana-chapter-training-2/
CATEGORIES:Chapter Event
ATTACH;FMTTYPE=image/png:https://firesprinkler.org/wp-content/uploads/2025/04/Louisiana_Chapter.png
END:VEVENT
END:VCALENDAR