BEGIN:VCALENDAR
VERSION:2.0
PRODID:-//American Fire Sprinkler Association - ECPv6.15.20//NONSGML v1.0//EN
CALSCALE:GREGORIAN
METHOD:PUBLISH
X-WR-CALNAME:American Fire Sprinkler Association
X-ORIGINAL-URL:https://firesprinkler.org
X-WR-CALDESC:Events for American Fire Sprinkler Association
REFRESH-INTERVAL;VALUE=DURATION:PT1H
X-Robots-Tag:noindex
X-PUBLISHED-TTL:PT1H
BEGIN:VTIMEZONE
TZID:UTC
BEGIN:STANDARD
TZOFFSETFROM:+0000
TZOFFSETTO:+0000
TZNAME:UTC
DTSTART:20230101T000000
END:STANDARD
END:VTIMEZONE
BEGIN:VTIMEZONE
TZID:America/Chicago
BEGIN:DAYLIGHT
TZOFFSETFROM:-0600
TZOFFSETTO:-0500
TZNAME:CDT
DTSTART:20230312T080000
END:DAYLIGHT
BEGIN:STANDARD
TZOFFSETFROM:-0500
TZOFFSETTO:-0600
TZNAME:CST
DTSTART:20231105T070000
END:STANDARD
BEGIN:DAYLIGHT
TZOFFSETFROM:-0600
TZOFFSETTO:-0500
TZNAME:CDT
DTSTART:20240310T080000
END:DAYLIGHT
BEGIN:STANDARD
TZOFFSETFROM:-0500
TZOFFSETTO:-0600
TZNAME:CST
DTSTART:20241103T070000
END:STANDARD
BEGIN:DAYLIGHT
TZOFFSETFROM:-0600
TZOFFSETTO:-0500
TZNAME:CDT
DTSTART:20250309T080000
END:DAYLIGHT
BEGIN:STANDARD
TZOFFSETFROM:-0500
TZOFFSETTO:-0600
TZNAME:CST
DTSTART:20251102T070000
END:STANDARD
END:VTIMEZONE
BEGIN:VEVENT
DTSTART;VALUE=DATE:20240904
DTEND;VALUE=DATE:20240905
DTSTAMP:20260422T043253
CREATED:20240208T223130Z
LAST-MODIFIED:20240208T223130Z
UID:10000386-1725408000-1725494399@firesprinkler.org
SUMMARY:Introduction to the Fire Sprinkler Industry
DESCRIPTION:This course is designed for those new to the industry. Participants will explore the critical role of sprinkler systems in fire protection and life safety while gaining insight into the basics of fire dynamics. We will identify the functions of fire sprinklers within various occupancies and include hands-on activities. \nThere is no cost for this course. \n  \n Learn More and Register\n 
URL:https://firesprinkler.org/calendarevent/introduction-to-the-fire-sprinkler-industry-4/
ATTACH;FMTTYPE=image/jpeg:https://firesprinkler.org/wp-content/uploads/2024/02/Introduction_to_FireSprinkler.jpg
END:VEVENT
BEGIN:VEVENT
DTSTART;TZID=America/Chicago:20240905T080000
DTEND;TZID=America/Chicago:20240906T170000
DTSTAMP:20260422T043253
CREATED:20240328T174751Z
LAST-MODIFIED:20240328T174751Z
UID:10000422-1725523200-1725642000@firesprinkler.org
SUMMARY:Fire Pump ITM Workshop
DESCRIPTION:AFSA’s Fire Pump ITM Workshop is designed to provide ITM technicians\, Authorities Having Jurisdiction (AHJs)\, and facilities managers with comprehensive knowledge and practical skills related to fire pump installations and the necessary ITM procedures. Participants will gain a deep understanding of the key differences between diesel and electric-driven fire pumps\, engage in hands-on exercises to perform no-flow and full-flow fire pump tests and learn the ITM requirements for water storage tanks. Hands-on activities\, including energy diffuser selection\, data acquisition\, supply graphing\, and data interpretation\, will help participants solidify their understanding of stationary fire pumps for fire protection. \nLearning Objectives:\nUpon completion\, participants will be able to: \n\nExplain codes\, standards\, and the roles and responsibilities of the parties involved in the inspection\, testing\, and maintenance of water-based fire protection systems.\nComparing and contrasting the components of different types of water-based fire protection systems.\nIdentify the operation and required NFPA 25 periodic inspection\, testing\, and maintenance requirements for common components\, sprinkler systems\,  wet systems\, and dry systems in water-based fire protection systems.\nExecute the NFPA 25 requirements for the no-flow testing of fire pumps\n\n Learn More and Register
URL:https://firesprinkler.org/calendarevent/fire-pump-itm-workshop-5/
LOCATION:AFSA Headquarters\, 1410 East Renner Rd.\, Suite 150\, Richardson\, TX\, 75082\, United States
ATTACH;FMTTYPE=image/jpeg:https://firesprinkler.org/wp-content/uploads/2023/10/ITM_gauge.jpg
END:VEVENT
BEGIN:VEVENT
DTSTART;TZID=America/Chicago:20240911T110000
DTEND;TZID=America/Chicago:20240911T120000
DTSTAMP:20260422T043253
CREATED:20240328T201624Z
LAST-MODIFIED:20240730T174031Z
UID:10000428-1726052400-1726056000@firesprinkler.org
SUMMARY:Enforcing NFPA 25 - AHJ Webinar
DESCRIPTION:This presentation will discuss how AHJs can enforce the requirements of NFPA 25. NFPA 25\, Standard for the Inspection\, Testing\, and Maintenance of Water-Based Fire Protection Systems. While NFPA 25 provides the required tasks and frequencies to perform ITM activities\, enforcement lies within the fire code. This presentation will describe the differences in scope between the codes and standard\, updates to NFPA 25 and the fire code involving enforcement\, and how consistent enforcement will benefit the fire sprinkler industry. \nRegistration ends 9/10/2024 at midnight. \n  \n Learn More and Register
URL:https://firesprinkler.org/calendarevent/enforcing-nfpa-25/
LOCATION:Online Webinar
CATEGORIES:Webinar
ATTACH;FMTTYPE=image/jpeg:https://firesprinkler.org/wp-content/uploads/2022/04/live_Webinar.jpg
END:VEVENT
BEGIN:VEVENT
DTSTART;VALUE=DATE:20240918
DTEND;VALUE=DATE:20240922
DTSTAMP:20260422T043253
CREATED:20240311T172341Z
LAST-MODIFIED:20240807T150339Z
UID:10000398-1726617600-1726963199@firesprinkler.org
SUMMARY:AFSA43 Exhibition & Apprentice Competition
DESCRIPTION:Gaylord Rockies Resort\n& Convention Center
URL:https://firesprinkler.org/calendarevent/afsa43-exhibition-apprentice-competition/
LOCATION:Gaylord Rockies Resort & Convention Center\, 6700 N Gaylord Rockies Blvd\, Aurora\, CO\, 80019\, United States
ORGANIZER;CN="AFSA":MAILTO:training@firesprinkler.org
END:VEVENT
END:VCALENDAR