BEGIN:VCALENDAR
VERSION:2.0
PRODID:-//American Fire Sprinkler Association - ECPv6.15.20//NONSGML v1.0//EN
CALSCALE:GREGORIAN
METHOD:PUBLISH
X-WR-CALNAME:American Fire Sprinkler Association
X-ORIGINAL-URL:https://firesprinkler.org
X-WR-CALDESC:Events for American Fire Sprinkler Association
REFRESH-INTERVAL;VALUE=DURATION:PT1H
X-Robots-Tag:noindex
X-PUBLISHED-TTL:PT1H
BEGIN:VTIMEZONE
TZID:America/Chicago
BEGIN:DAYLIGHT
TZOFFSETFROM:-0600
TZOFFSETTO:-0500
TZNAME:CDT
DTSTART:20220313T080000
END:DAYLIGHT
BEGIN:STANDARD
TZOFFSETFROM:-0500
TZOFFSETTO:-0600
TZNAME:CST
DTSTART:20221106T070000
END:STANDARD
BEGIN:DAYLIGHT
TZOFFSETFROM:-0600
TZOFFSETTO:-0500
TZNAME:CDT
DTSTART:20230312T080000
END:DAYLIGHT
BEGIN:STANDARD
TZOFFSETFROM:-0500
TZOFFSETTO:-0600
TZNAME:CST
DTSTART:20231105T070000
END:STANDARD
BEGIN:DAYLIGHT
TZOFFSETFROM:-0600
TZOFFSETTO:-0500
TZNAME:CDT
DTSTART:20240310T080000
END:DAYLIGHT
BEGIN:STANDARD
TZOFFSETFROM:-0500
TZOFFSETTO:-0600
TZNAME:CST
DTSTART:20241103T070000
END:STANDARD
END:VTIMEZONE
BEGIN:VTIMEZONE
TZID:America/Los_Angeles
BEGIN:DAYLIGHT
TZOFFSETFROM:-0800
TZOFFSETTO:-0700
TZNAME:PDT
DTSTART:20220313T100000
END:DAYLIGHT
BEGIN:STANDARD
TZOFFSETFROM:-0700
TZOFFSETTO:-0800
TZNAME:PST
DTSTART:20221106T090000
END:STANDARD
BEGIN:DAYLIGHT
TZOFFSETFROM:-0800
TZOFFSETTO:-0700
TZNAME:PDT
DTSTART:20230312T100000
END:DAYLIGHT
BEGIN:STANDARD
TZOFFSETFROM:-0700
TZOFFSETTO:-0800
TZNAME:PST
DTSTART:20231105T090000
END:STANDARD
BEGIN:DAYLIGHT
TZOFFSETFROM:-0800
TZOFFSETTO:-0700
TZNAME:PDT
DTSTART:20240310T100000
END:DAYLIGHT
BEGIN:STANDARD
TZOFFSETFROM:-0700
TZOFFSETTO:-0800
TZNAME:PST
DTSTART:20241103T090000
END:STANDARD
END:VTIMEZONE
BEGIN:VEVENT
DTSTART;VALUE=DATE:20230207
DTEND;VALUE=DATE:20230304
DTSTAMP:20260423T051100
CREATED:20221214T212602Z
LAST-MODIFIED:20230130T175945Z
UID:10000182-1675728000-1677887999@firesprinkler.org
SUMMARY:Beginning Design School
DESCRIPTION:The Beginning Design School presents a comprehensive\, practical approach to preparing fire sprinkler system drawings. \nOver a three-week period\, students will attend six live webinars studying and reviewing the installation and design approach requirements of NFPA 13 (2019) while completing self-paced exercises and module assessments. Q&A sessions and open discussions will also be included as part of the online instruction. \nThe second part of the class will be a week of in-person training preparing fire sprinkler system layout\, shop drawings\, and hydraulic calculations by hand. The course concludes with a comprehensive exam of the class content including the installation requirements and hydraulics. \nThere is no CAD or third-party software taught in this class. \nLearning Objectives:\nThe school will prepare the student to: \n\nAccelerate the comprehension of plans and various types of building construction for proper sprinkler spacing applications.\nDetermine the proper and economic planning of sprinkler system layout and installation methods.\nKnow the importance of sprinkler specifications\, types of pipe\, hangers\, fittings\, flow tests\, etc.\nLearn to develop shop drawings from start to finish.\nLearn to coordinate with other trades – plumbing\, mechanical\, structural\, and electrical.\nPerform manual hydraulic calculations by hand\, preparing the student for a more natural decision-making process when using a computer to perform hydraulics.\nPrepare shop drawings in class for projects with different applications.\n\nPrerequisites:\nThis class is designed for trainees and entry-level technicians with at least six months of experience as well as those with experience in the sprinkler trade looking to make the transition to system layout. \nJuly – San Diego; September – Dallas; November – Orlando \nThe final week of each session will be hosted on location. Hotel location TBD. \nMore Info & Register
URL:https://firesprinkler.org/calendarevent/beginning-fire-sprinkler-system-planning-school-2/
ATTACH;FMTTYPE=image/jpeg:https://firesprinkler.org/wp-content/uploads/2021/06/Design_school_drawing.jpg
ORGANIZER;CN="AFSA":MAILTO:training@firesprinkler.org
END:VEVENT
BEGIN:VEVENT
DTSTART;TZID=America/Chicago:20230301T110000
DTEND;TZID=America/Chicago:20230301T120000
DTSTAMP:20260423T051100
CREATED:20221215T195130Z
LAST-MODIFIED:20221215T195130Z
UID:10000191-1677668400-1677672000@firesprinkler.org
SUMMARY:Proposed Updates to NFPA 13
DESCRIPTION:The 2025 edition of NFPA 13 is currently out for public comment\, and this webinar will review the changes that can be found in the first draft report and topics from the public input stage that can be brought back up for discussion. This webinar will specifically discuss the first revisions made by the installation and discharge committees of the NFPA 13 and any committee inputs that are seeking public comment. \nLearning Objectives: \nUpon completion of this webinar\, attendees will be able to: \n1. Identify new definitions added as first revisions and their applicability to the rest of the standard\n2. Identify and apply changes to the owner’s certificate\, including water supply\, seismic design\, and corrosion treatments.\n3. Determine the maximum protection area per sprinkler system\n4. Understand the reorganized requirements for dry systems and apply new requirements\n5. Define “supplemental sprinklers” and apply the new installation and design requirements associated with them\n6. Identify new requirements based on the Fire Protection Research Foundation’s report on sloped ceilings \nDetails:  \nRegistration Fees (per person): \nAFSA Member no CEU: FREE\nAFSA Member with CEU: $25\nNon-Member: $250\nAHJ no CEU: FREE\nAHJ with CEU: $15 \nContinuing Education Credit: \nThis webinar offers: 0.1 CEUs\, 1.0 CPDs \nTo receive continuing education credits for the webinar\, you must do all of the following: \n\nRegister individually using your name that matches your fitter certification\, if applicable.\nConnect with your unique webinar link\nDo not share or use someone else’s unique webinar link.\nAttend the webinar in its entirety\nRespond to each checkpoint question\nSubmit a completed evaluation form within 14 days of the webinar\n\nPlease check your time zone to ensure you connect at the right time: \n9:00 AM – 10:00 AM Pacific Time\n10:00 AM – 11:00 AM Mountain Time\n11:00 AM – 12:00 PM Central Time\n12:00 PM – 1:00 PM Eastern Time  \n Register
URL:https://firesprinkler.org/calendarevent/proposed-updates-to-nfpa-13/
CATEGORIES:Webinar
ATTACH;FMTTYPE=image/jpeg:https://firesprinkler.org/wp-content/uploads/2022/04/live_Webinar.jpg
END:VEVENT
BEGIN:VEVENT
DTSTART;TZID=America/Los_Angeles:20230309T150000
DTEND;TZID=America/Los_Angeles:20230309T190000
DTSTAMP:20260423T051100
CREATED:20230206T213047Z
LAST-MODIFIED:20230206T213047Z
UID:10000200-1678374000-1678388400@firesprinkler.org
SUMMARY:Sacramento Valley AFSA Trade Show
DESCRIPTION:Come join us for our 11th annual Trade Show and enjoy fire sprinkler industry exhibitors\, mingle with fellow contractors\, engineers\, fitters\, apprentices\, designers\, enjoy good food\, a raffle and the newest products in our industry. \nPre registration not required.
URL:https://firesprinkler.org/calendarevent/sacramento-valley-afsa-trade-show/
LOCATION:Thunder Valley Casino\, 1200 Athens Ave\, Lincoln\, CA\, 95648\, United States
CATEGORIES:Chapter Event
ATTACH;FMTTYPE=image/jpeg:https://firesprinkler.org/wp-content/uploads/2023/02/SVC_AFSA_Trade-Show-Flyer_2023-copy-scaled.jpg
END:VEVENT
BEGIN:VEVENT
DTSTART;TZID=America/Chicago:20230315T110000
DTEND;TZID=America/Chicago:20230315T120000
DTSTAMP:20260423T051100
CREATED:20221219T204537Z
LAST-MODIFIED:20230104T150958Z
UID:10000190-1678878000-1678881600@firesprinkler.org
SUMMARY:Avoid Being Dumped for a Buck & a Truck
DESCRIPTION:Fire Sprinkler contractors\, like all construction trades\, are experiencing a severe lack of manpower at every business level. This shortage of manpower is compounded by inflation and the increasing cost of money and materials\, resulting in projects being canceled or on hold. All of these factors are holding back potential growth and expansion opportunities and seem out of our control. They are not. Our industry needs the introduction of new blood and training programs to sustain the workforce needs of AFSA members and the industry as a whole. This webinar will provide solutions by discussing the need to recruit\, grow and retain our workforce and stop paying more per hour for mediocrity and untrained workers. \nLearning Objectives: \nUpon completion of this webinar\, attendees will be able to: \n\nUnderstand the needs of the modern workforce as opposed to past practices and\nIdentify the cost of employee turnover and it’s impact on the company’s bottom line.\nCombine the benefits and opportunity for growth and professional development to show team members why staying for the long haul is more beneficial than the short-term gain of a buck and a truck.\nChoose training programs for long-term solutions to the manpower needs to become a farmer rather than a hunter.\n\nDetails:  \nRegistration Fees (per person): \nAFSA Member with no CEU: FREE\nAFSA Member with CEU: $25\nNon-Member: $250\nAHJ without CEU: FREE\nAHJ with CEU: $15 \nContinuing Education Credit: \nThis webinar offers: 0.1 CEUs\, 1.0 CPDs \nTo receive continuing education credits for the webinar\, you must do all of the following: \n\nRegister individually using your name that matches your fitter certification\, if applicable.\nConnect with your unique webinar link\nDo not share or use someone else’s unique webinar link.\nAttend the webinar in its entirety\nRespond to each checkpoint question\nSubmit a completed evaluation form within 14 days of the webinar\n\nPlease check your time zone to ensure you connect at the right time: \n9:00 AM – 10:00 AM Pacific Time\n10:00 AM – 11:00 AM Mountain Time\n11:00 AM – 12:00 PM Central Time\n12:00 PM – 1:00 PM Eastern Time  \n Register
URL:https://firesprinkler.org/calendarevent/proposed-updates-to-nfpa-13-2/
LOCATION:Online Webinar
CATEGORIES:Webinar
ATTACH;FMTTYPE=image/jpeg:https://firesprinkler.org/wp-content/uploads/2022/04/live_Webinar.jpg
ORGANIZER;CN="AFSA":MAILTO:training@firesprinkler.org
END:VEVENT
BEGIN:VEVENT
DTSTART;VALUE=DATE:20230320
DTEND;VALUE=DATE:20230401
DTSTAMP:20260423T051100
CREATED:20221214T211352Z
LAST-MODIFIED:20230130T180711Z
UID:10000177-1679270400-1680307199@firesprinkler.org
SUMMARY:Intermediate Design School
DESCRIPTION:Next Level Design\nExperienced layout technicians will find this blended learning course useful to understand the tools they utilize in-depth and gain a deeper knowledge of layout standpipes\, fire pumps\, seismic protection\, and the design requirements for general storage. In addition to mastering requirements in NFPA 13\, NFPA 14\, and NFPA 20\, students will utilize computer modeling software to apply design requirements learned throughout the course\, becoming familiar with the BIM process. This course begins with an orientation and two 3-hour webinars followed by five days of in-person instruction. \nThe course will begin with an orientation and two 3-hour webinars providing an overview of the toolsets available in the Hydratec for Revit® software to allow students to utilize Building Information Modeling (BIM) for exercises. \nThis is followed by five days of in-person instruction. The course is designed for those with layout experience looking to understand the tools they utilize in-depth and gain a deeper knowledge to apply the design and installation requirements for general storage\, install and calculate seismic protection\, layout and calculate standpipe systems\, size\, and select-fire pumps\, and apply hydraulic principles to complex wet\, deluge\, and preaction systems. Seismic protection and sway bracing will also be covered in detail. \n\n\n\n\n\n\nMember Price:  $2\,100 \n\n\n\n\n\n\n\n\n\n\n\n\nNonmember Price: $3\,100 \n\n\n\n\nMore Info & Register
URL:https://firesprinkler.org/calendarevent/intermediate-fire-sprinkler-system-planning-school-2/
LOCATION:AFSA Headquarters\, 1410 East Renner Rd.\, Suite 150\, Richardson\, TX\, 75082\, United States
ATTACH;FMTTYPE=image/jpeg:https://firesprinkler.org/wp-content/uploads/2022/04/Intermediate_Design_School.jpg
ORGANIZER;CN="AFSA":MAILTO:training@firesprinkler.org
END:VEVENT
END:VCALENDAR