BEGIN:VCALENDAR
VERSION:2.0
PRODID:-//American Fire Sprinkler Association - ECPv6.15.20//NONSGML v1.0//EN
CALSCALE:GREGORIAN
METHOD:PUBLISH
X-WR-CALNAME:American Fire Sprinkler Association
X-ORIGINAL-URL:https://firesprinkler.org
X-WR-CALDESC:Events for American Fire Sprinkler Association
REFRESH-INTERVAL;VALUE=DURATION:PT1H
X-Robots-Tag:noindex
X-PUBLISHED-TTL:PT1H
BEGIN:VTIMEZONE
TZID:America/Chicago
BEGIN:DAYLIGHT
TZOFFSETFROM:-0600
TZOFFSETTO:-0500
TZNAME:CDT
DTSTART:20240310T080000
END:DAYLIGHT
BEGIN:STANDARD
TZOFFSETFROM:-0500
TZOFFSETTO:-0600
TZNAME:CST
DTSTART:20241103T070000
END:STANDARD
BEGIN:DAYLIGHT
TZOFFSETFROM:-0600
TZOFFSETTO:-0500
TZNAME:CDT
DTSTART:20250309T080000
END:DAYLIGHT
BEGIN:STANDARD
TZOFFSETFROM:-0500
TZOFFSETTO:-0600
TZNAME:CST
DTSTART:20251102T070000
END:STANDARD
BEGIN:DAYLIGHT
TZOFFSETFROM:-0600
TZOFFSETTO:-0500
TZNAME:CDT
DTSTART:20260308T080000
END:DAYLIGHT
BEGIN:STANDARD
TZOFFSETFROM:-0500
TZOFFSETTO:-0600
TZNAME:CST
DTSTART:20261101T070000
END:STANDARD
BEGIN:DAYLIGHT
TZOFFSETFROM:-0600
TZOFFSETTO:-0500
TZNAME:CDT
DTSTART:20270314T080000
END:DAYLIGHT
BEGIN:STANDARD
TZOFFSETFROM:-0500
TZOFFSETTO:-0600
TZNAME:CST
DTSTART:20271107T070000
END:STANDARD
END:VTIMEZONE
BEGIN:VEVENT
DTSTART;TZID=America/Chicago:20250507T110000
DTEND;TZID=America/Chicago:20250507T120000
DTSTAMP:20260421T213729
CREATED:20250213T154458Z
LAST-MODIFIED:20250213T154458Z
UID:10000589-1746615600-1746619200@firesprinkler.org
SUMMARY:Updates to NFPA 25
DESCRIPTION:Join us for an informative webinar on the proposed changes to the 2026 edition of NFPA 25\, the standard for inspecting\, testing\, and maintaining water-based fire protection systems. With the second draft set for adoption at the NFPA Technical Meeting in June\, we’ll explore key updates and their potential implications. Learn how these changes may affect contractors and their work processes. \nThe registration deadline is 11:59 PM the day before the webinar. \n  \n Register & More Info
URL:https://firesprinkler.org/calendarevent/updates-to-nfpa-25/
LOCATION:Online Webinar
CATEGORIES:Webinar
ATTACH;FMTTYPE=image/jpeg:https://firesprinkler.org/wp-content/uploads/2022/04/live_Webinar.jpg
END:VEVENT
BEGIN:VEVENT
DTSTART;TZID=America/Chicago:20250521T110000
DTEND;TZID=America/Chicago:20250521T120000
DTSTAMP:20260421T213730
CREATED:20250213T160804Z
LAST-MODIFIED:20250213T160957Z
UID:10000590-1747825200-1747828800@firesprinkler.org
SUMMARY:Enforcing NFPA 25 (AHJ)
DESCRIPTION:NFPA 25\, Standard for the Inspection\, Testing\, and Maintenance of Water-Based Fire Protection Systems is referenced by the model fire codes. While NFPA 25 provides the required tasks and frequencies to perform ITM activities\, enforcement is under the jurisdiction of the fire code and the fire code official. This webinar will describe the \nThe registration deadline is 11:59 PM the day before the webinar. \n  \n Register & More Info
URL:https://firesprinkler.org/calendarevent/enforcing-nfpa-25-ahj/
LOCATION:Online Webinar
CATEGORIES:Webinar
ATTACH;FMTTYPE=image/jpeg:https://firesprinkler.org/wp-content/uploads/2022/04/live_Webinar.jpg
END:VEVENT
BEGIN:VEVENT
DTSTART;TZID=America/Chicago:20250611T110000
DTEND;TZID=America/Chicago:20250611T120000
DTSTAMP:20260421T213730
CREATED:20250423T174106Z
LAST-MODIFIED:20250624T154800Z
UID:10000622-1749639600-1749643200@firesprinkler.org
SUMMARY:ITM of Standpipe Systems (AHJ)
DESCRIPTION:Join us for a comprehensive webinar on the inspection\, testing\, and maintenance requirements of standpipe systems and their components. We’ll explore the key details from Chapters 6 and 13 of NFPA 25\, offering insights into compliance and operational best practices. Gain an understanding of the essential equipment needed to meet these requirements and ensure your systems are reliable and up to code. \nThis webinar is ICC approved. \n  \n Register & More Info
URL:https://firesprinkler.org/calendarevent/itm-of-standpipe-systems-ahj/
LOCATION:Online Webinar
CATEGORIES:Webinar
ATTACH;FMTTYPE=image/jpeg:https://firesprinkler.org/wp-content/uploads/2022/04/live_Webinar.jpg
END:VEVENT
BEGIN:VEVENT
DTSTART;TZID=America/Chicago:20250702T110000
DTEND;TZID=America/Chicago:20250702T120000
DTSTAMP:20260421T213730
CREATED:20250213T161218Z
LAST-MODIFIED:20250213T161218Z
UID:10000591-1751454000-1751457600@firesprinkler.org
SUMMARY:Updates to NFPA 14
DESCRIPTION:NFPA 14\, Standard for the Installation of Standpipe and Hose Systems is entering its revision cycle for the 2027 edition of the standard. This presentation will give a brief overview of the standard development process as well as review notable public inputs and first draft actions. \nThe registration deadline is 11:59 PM the day before the webinar. \n  \n Register & More Info
URL:https://firesprinkler.org/calendarevent/updates-to-nfpa-14/
LOCATION:Online Webinar
CATEGORIES:Webinar
ATTACH;FMTTYPE=image/jpeg:https://firesprinkler.org/wp-content/uploads/2022/04/live_Webinar.jpg
END:VEVENT
BEGIN:VEVENT
DTSTART;TZID=America/Chicago:20250716T110000
DTEND;TZID=America/Chicago:20250716T120000
DTSTAMP:20260421T213730
CREATED:20250213T161518Z
LAST-MODIFIED:20250213T161518Z
UID:10000592-1752663600-1752667200@firesprinkler.org
SUMMARY:Acceptance Testing for Standpipe Systems
DESCRIPTION:This presentation will detail the requirements for acceptance testing of standpipe systems. In addition to the acceptance tests\, closeout documentation and signage will be discussed. \nThe registration deadline is 11:59 PM the day before the webinar. \n  \n Register & More Info
URL:https://firesprinkler.org/calendarevent/acceptance-testing-for-standpipe-systems/
LOCATION:Online Webinar
CATEGORIES:Webinar
ATTACH;FMTTYPE=image/jpeg:https://firesprinkler.org/wp-content/uploads/2022/04/live_Webinar.jpg
END:VEVENT
BEGIN:VEVENT
DTSTART;TZID=America/Chicago:20250806T110000
DTEND;TZID=America/Chicago:20250806T120000
DTSTAMP:20260421T213730
CREATED:20250213T161957Z
LAST-MODIFIED:20250213T162532Z
UID:10000593-1754478000-1754481600@firesprinkler.org
SUMMARY:Calculating Supplemental Sprinklers
DESCRIPTION:The concept of “Supplemental Sprinklers” was introduced in the 2025 edition of NFPA 13\, Standard for the Installation of Sprinkler Systems. The new requirements help to clarify legacy requirements that were inferred throughout the standard and create more options for designers to tackle challenging layout schemes in storage and non-storage occupancies. \nThe registration deadline is 11:59 PM the day before the webinar. \n  \n Register & More Info
URL:https://firesprinkler.org/calendarevent/calculating-supplemental-sprinklers/
LOCATION:Online Webinar
CATEGORIES:Webinar
ATTACH;FMTTYPE=image/jpeg:https://firesprinkler.org/wp-content/uploads/2022/04/live_Webinar.jpg
END:VEVENT
BEGIN:VEVENT
DTSTART;TZID=America/Chicago:20250820T110000
DTEND;TZID=America/Chicago:20250820T170000
DTSTAMP:20260421T213730
CREATED:20250609T180515Z
LAST-MODIFIED:20250624T154800Z
UID:10000631-1755687600-1755709200@firesprinkler.org
SUMMARY:Protection of Aircraft Hangars
DESCRIPTION:This presentation will provide an overview of how research and data analysis helped shape the fire protection system requirements in NFPA 409 (2022 edition) to allow consideration of automatic sprinklers as part of a viable fire protection solution. \n Register & More Info\n 
URL:https://firesprinkler.org/calendarevent/protection-of-aircraft-hangars/
LOCATION:Online Webinar
CATEGORIES:Webinar
ATTACH;FMTTYPE=image/jpeg:https://firesprinkler.org/wp-content/uploads/2022/04/live_Webinar.jpg
END:VEVENT
BEGIN:VEVENT
DTSTART;TZID=America/Chicago:20250903T110000
DTEND;TZID=America/Chicago:20250903T120000
DTSTAMP:20260421T213730
CREATED:20250213T162812Z
LAST-MODIFIED:20250213T162812Z
UID:10000594-1756897200-1756900800@firesprinkler.org
SUMMARY:Updates to NFPA 420
DESCRIPTION:The protection of cannabis facilities has been a burning question for the fire protection industry and spurred the creation of NFPA 420 to develop prescriptive requirements. This presentation will provide a high-level overview of NFPA 420 Standard for the Protection of Cannabis Growing and Processing Facilities\, detail the joint efforts of the fire protection task group\, and discuss the new standard’s impact on the installation of sprinkler systems. \nThe registration deadline is 11:59 PM the day before the webinar. \n  \n Register & More Info
URL:https://firesprinkler.org/calendarevent/updates-to-nfpa-420/
LOCATION:Online Webinar
CATEGORIES:Webinar
ATTACH;FMTTYPE=image/jpeg:https://firesprinkler.org/wp-content/uploads/2022/04/live_Webinar.jpg
ORGANIZER;CN="AFSA":MAILTO:training@firesprinkler.org
END:VEVENT
BEGIN:VEVENT
DTSTART;TZID=America/Chicago:20250917T110000
DTEND;TZID=America/Chicago:20250917T120000
DTSTAMP:20260421T213730
CREATED:20250513T221559Z
LAST-MODIFIED:20250609T180636Z
UID:10000626-1758106800-1758110400@firesprinkler.org
SUMMARY:Third Party Reporting (AHJ)
DESCRIPTION:Third-party inspection\, testing\, and maintenance (ITM) reporting services are being implemented by numerous jurisdictions. While the overall enforcement of ITM requirements benefits the fire protection industry\, the burden of compliance needs to be further clarified by those jurisdictions implementing third-party reporting programs. This presentation will discuss the overall process of third-party reporting\, the roles and responsibilities for all parties involved\, and the ownership of the data. \n Register & More Info
URL:https://firesprinkler.org/calendarevent/third-party-compliance-engines-ahj/
LOCATION:Online Webinar
CATEGORIES:Webinar
ATTACH;FMTTYPE=image/jpeg:https://firesprinkler.org/wp-content/uploads/2022/04/live_Webinar.jpg
END:VEVENT
BEGIN:VEVENT
DTSTART;TZID=America/Chicago:20251001T110000
DTEND;TZID=America/Chicago:20251001T120000
DTSTAMP:20260421T213730
CREATED:20250513T221822Z
LAST-MODIFIED:20250513T221822Z
UID:10000627-1759316400-1759320000@firesprinkler.org
SUMMARY:Variable Speed Pump Applications
DESCRIPTION:This presentation provides an in-depth look at the application\, testing\, and performance evaluation of variable speed pumps. Attendees will gain a comprehensive understanding of both normal and variable speed acceptance and annual test requirements\, including key performance benchmarks at various flow rates. \n  \n Register & More Info
URL:https://firesprinkler.org/calendarevent/variable-speed-pump-applications/
LOCATION:Online Webinar
CATEGORIES:Webinar
ATTACH;FMTTYPE=image/jpeg:https://firesprinkler.org/wp-content/uploads/2022/04/live_Webinar.jpg
END:VEVENT
BEGIN:VEVENT
DTSTART;TZID=America/Chicago:20251112T110000
DTEND;TZID=America/Chicago:20251112T120000
DTSTAMP:20260421T213730
CREATED:20250213T163054Z
LAST-MODIFIED:20250513T205559Z
UID:10000595-1762945200-1762948800@firesprinkler.org
SUMMARY:Design Area Adjustments in NFPA 13
DESCRIPTION:Join us for a focused webinar on design area adjustments in NFPA 13\, covering key guidelines for fire sprinkler system layout and coverage. Learn how to effectively adjust design areas based on sprinkler type and building characteristics. Understand how hydraulic software adjusts your design area to ensure system performance. \nThe registration deadline is 11:59 PM the day before the webinar. \n  \n Register & More Info
URL:https://firesprinkler.org/calendarevent/design-area-adjustments-in-nfpa-13/
LOCATION:Online Webinar
CATEGORIES:Webinar
ATTACH;FMTTYPE=image/jpeg:https://firesprinkler.org/wp-content/uploads/2022/04/live_Webinar.jpg
ORGANIZER;CN="AFSA":MAILTO:training@firesprinkler.org
END:VEVENT
BEGIN:VEVENT
DTSTART;TZID=America/Chicago:20251203T110000
DTEND;TZID=America/Chicago:20251203T120000
DTSTAMP:20260421T213730
CREATED:20250213T163235Z
LAST-MODIFIED:20250213T163235Z
UID:10000596-1764759600-1764763200@firesprinkler.org
SUMMARY:Neglected Chapters in NFPA 25
DESCRIPTION:This webinar will explore the lesser-used chapters of NFPA 25\, focusing on the valuable information they contain. We will delve into the content of Chapters 1\, 2\, 10\, 11\, 12\, 16\, and Annex D shedding light on their relevance to the inspection\, testing\, and maintenance of water-based fire protection systems. Gain a deeper understanding of these chapters and how they support comprehensive fire protection practices. \nThe registration deadline is 11:59 PM the day before the webinar. \n  \n Register & More Info
URL:https://firesprinkler.org/calendarevent/neglected-chapters-in-nfpa-25/
LOCATION:Online Webinar
CATEGORIES:Webinar
ATTACH;FMTTYPE=image/jpeg:https://firesprinkler.org/wp-content/uploads/2022/04/live_Webinar.jpg
ORGANIZER;CN="AFSA":MAILTO:training@firesprinkler.org
END:VEVENT
BEGIN:VEVENT
DTSTART;TZID=America/Chicago:20260107T113000
DTEND;TZID=America/Chicago:20260107T123000
DTSTAMP:20260421T213730
CREATED:20251208T182126Z
LAST-MODIFIED:20251208T182946Z
UID:10000643-1767785400-1767789000@firesprinkler.org
SUMMARY:Fire Pump Sizing and Selection
DESCRIPTION:This webinar examines how to determine the need for a fire pump\, as well as selecting the appropriate pump capacity. \n Register & More Info
URL:https://firesprinkler.org/calendarevent/fire-pump-sizing-and-selection/
LOCATION:Online Webinar
CATEGORIES:Webinar
ATTACH;FMTTYPE=image/jpeg:https://firesprinkler.org/wp-content/uploads/2022/04/live_Webinar.jpg
END:VEVENT
BEGIN:VEVENT
DTSTART;TZID=America/Chicago:20260121T113000
DTEND;TZID=America/Chicago:20260121T123000
DTSTAMP:20260421T213730
CREATED:20251208T182723Z
LAST-MODIFIED:20251208T182852Z
UID:10000644-1768995000-1768998600@firesprinkler.org
SUMMARY:Updates to NFPA 25\, 2026 Edition
DESCRIPTION:This webinar will discuss the revisions made to the 2026 edition of NFPA 25\, Standard for the Inspection\, Testing\, and Maintenance of Water-Based Fire Protection Systems. \n Register & More Info
URL:https://firesprinkler.org/calendarevent/updates-to-nfpa-25-2026-edition-2/
LOCATION:Online Webinar
CATEGORIES:Webinar
ATTACH;FMTTYPE=image/jpeg:https://firesprinkler.org/wp-content/uploads/2022/04/live_Webinar.jpg
ORGANIZER;CN="AFSA":MAILTO:training@firesprinkler.org
END:VEVENT
BEGIN:VEVENT
DTSTART;TZID=America/Chicago:20260204T113000
DTEND;TZID=America/Chicago:20260204T123000
DTSTAMP:20260421T213730
CREATED:20260129T170051Z
LAST-MODIFIED:20260129T170051Z
UID:10000694-1770204600-1770208200@firesprinkler.org
SUMMARY:UCSD Report: Seismic Testing - Fire Sprinkler System Response within a 10-Story
DESCRIPTION:This webinar highlights the seismic and fire performance of a fire sprinkler system installed in a full-scale\, 10-story cold-formed steel (CFS) building tested at the NHERI Large High-Performance Outdoor Shake Table (LHPOST6) facility at the University of California San Diego in Summer 2025. \n Register & Learn More
URL:https://firesprinkler.org/calendarevent/ucsd-report-seismic-testing-fire-sprinkler-system-response-within-a-10-story/
LOCATION:Online Webinar
CATEGORIES:Webinar
ATTACH;FMTTYPE=image/jpeg:https://firesprinkler.org/wp-content/uploads/2022/04/live_Webinar.jpg
END:VEVENT
BEGIN:VEVENT
DTSTART;TZID=America/Chicago:20260211T113000
DTEND;TZID=America/Chicago:20260211T123000
DTSTAMP:20260421T213730
CREATED:20260129T170307Z
LAST-MODIFIED:20260129T170307Z
UID:10000695-1770809400-1770813000@firesprinkler.org
SUMMARY:"Take Two" Fire Pump Sizing and Selection
DESCRIPTION:This presentation will be a repeat of our January 7th webinar\, but without the technical difficulties previously encountered. We will examine how to determine the need for a fire pump along with choosing the proper pump capacity.  \n Register & Learn More
URL:https://firesprinkler.org/calendarevent/take-two-fire-pump-sizing-and-selection/
LOCATION:Online Webinar
CATEGORIES:Webinar
ATTACH;FMTTYPE=image/jpeg:https://firesprinkler.org/wp-content/uploads/2022/04/live_Webinar.jpg
END:VEVENT
BEGIN:VEVENT
DTSTART;TZID=America/Chicago:20260218T113000
DTEND;TZID=America/Chicago:20260218T123000
DTSTAMP:20260421T213730
CREATED:20260129T170502Z
LAST-MODIFIED:20260129T171630Z
UID:10000696-1771414200-1771417800@firesprinkler.org
SUMMARY:Limiting Liability with NFPA 25
DESCRIPTION:This webinar will strategies for managing the risks inherent in this work and offers ways to utilize NFPA 25 to ensure that the company and its employees are protected from often unwarranted blame when things go wrong. \n Register & Learn More
URL:https://firesprinkler.org/calendarevent/limiting-liability-with-nfpa-25/
LOCATION:Online Webinar
CATEGORIES:Webinar
ATTACH;FMTTYPE=image/jpeg:https://firesprinkler.org/wp-content/uploads/2022/04/live_Webinar.jpg
END:VEVENT
BEGIN:VEVENT
DTSTART;TZID=America/Chicago:20260304T113000
DTEND;TZID=America/Chicago:20260304T123000
DTSTAMP:20260421T213730
CREATED:20260209T231944Z
LAST-MODIFIED:20260209T231944Z
UID:10000697-1772623800-1772627400@firesprinkler.org
SUMMARY:Dry Pipe Water Delivery Times
DESCRIPTION:This webinar takes a focused look at dry pipe water delivery time—what it is\, how it’s measured\, and the factors that directly impact it. \n Register & Learn More
URL:https://firesprinkler.org/calendarevent/dry-pipe-water-delivery-times/
LOCATION:Online Webinar
CATEGORIES:Webinar
ATTACH;FMTTYPE=image/jpeg:https://firesprinkler.org/wp-content/uploads/2022/04/live_Webinar.jpg
END:VEVENT
BEGIN:VEVENT
DTSTART;TZID=America/Chicago:20260318T113000
DTEND;TZID=America/Chicago:20260318T123000
DTSTAMP:20260421T213730
CREATED:20260209T232322Z
LAST-MODIFIED:20260212T183913Z
UID:10000698-1773833400-1773837000@firesprinkler.org
SUMMARY:Plan Review (AHJ)
DESCRIPTION:This webinar will focus on the key elements of an effective fire sprinkler plan review and how clear\, well-coordinated plans support code compliance and life safety. This webinar is ICC-approved. \n  \n Register & Learn More
URL:https://firesprinkler.org/calendarevent/plan-review-ahj/
LOCATION:Online Webinar
CATEGORIES:Webinar
ATTACH;FMTTYPE=image/jpeg:https://firesprinkler.org/wp-content/uploads/2022/04/live_Webinar.jpg
END:VEVENT
BEGIN:VEVENT
DTSTART;TZID=America/Chicago:20260401T113000
DTEND;TZID=America/Chicago:20260401T123000
DTSTAMP:20260421T213730
CREATED:20260209T232608Z
LAST-MODIFIED:20260209T232608Z
UID:10000699-1775043000-1775046600@firesprinkler.org
SUMMARY:Hydraulics - Back to Basics
DESCRIPTION:This webinar will cover the fundamentals of fire sprinkler hydraulics\, focusing on k-factor\, pressure\, and flow relationships. \n  \n Register & Learn More
URL:https://firesprinkler.org/calendarevent/hydraulics-back-to-basics/
LOCATION:Online Webinar
CATEGORIES:Webinar
ATTACH;FMTTYPE=image/jpeg:https://firesprinkler.org/wp-content/uploads/2022/04/live_Webinar.jpg
END:VEVENT
BEGIN:VEVENT
DTSTART;TZID=America/Chicago:20260415T113000
DTEND;TZID=America/Chicago:20260415T123000
DTSTAMP:20260421T213730
CREATED:20260309T145413Z
LAST-MODIFIED:20260408T182005Z
UID:10000704-1776252600-1776256200@firesprinkler.org
SUMMARY:Electrical Requirements for Fire Pumps
DESCRIPTION:This webinar will discuss the power supply requirements outlined in NFPA 20 for fire pumps\, drivers\, and controllers. \n  \n Register & Learn More
URL:https://firesprinkler.org/calendarevent/electrical-requirements-for-fire-pumps/
LOCATION:Online Webinar
CATEGORIES:Webinar
ATTACH;FMTTYPE=image/jpeg:https://firesprinkler.org/wp-content/uploads/2022/04/live_Webinar.jpg
END:VEVENT
BEGIN:VEVENT
DTSTART;TZID=America/Chicago:20260506T113000
DTEND;TZID=America/Chicago:20260506T123000
DTSTAMP:20260421T213730
CREATED:20260209T232825Z
LAST-MODIFIED:20260209T232825Z
UID:10000700-1778067000-1778070600@firesprinkler.org
SUMMARY:Providing Good Customer Service
DESCRIPTION:This webinar will highlight the importance of professional communication\, customer service\, documentation\, and effective closeout meetings in supporting successful ITM activities. \n  \n Register & Learn More
URL:https://firesprinkler.org/calendarevent/providing-good-customer-service/
LOCATION:Online Webinar
CATEGORIES:Webinar
ATTACH;FMTTYPE=image/jpeg:https://firesprinkler.org/wp-content/uploads/2022/04/live_Webinar.jpg
END:VEVENT
BEGIN:VEVENT
DTSTART;TZID=America/Chicago:20260520T113000
DTEND;TZID=America/Chicago:20260520T123000
DTSTAMP:20260421T213730
CREATED:20260224T161459Z
LAST-MODIFIED:20260408T182143Z
UID:10000703-1779276600-1779280200@firesprinkler.org
SUMMARY:Inspector’s Guide to ITM Forms for NFPA 25 – The Good\, Bad\, and Ugly
DESCRIPTION:This webinar will describe the questions a contractor should include in their reports (The Good)\, the questions that should be avoided (The Bad)\, and the reasons why (The Ugly). \n  \n Register & Learn More\n  \n 
URL:https://firesprinkler.org/calendarevent/inspectors-guide-to-itm-forms-for-nfpa-25-the-good-bad-and-ugly/
LOCATION:Online Webinar
CATEGORIES:Webinar
ATTACH;FMTTYPE=image/jpeg:https://firesprinkler.org/wp-content/uploads/2022/04/live_Webinar.jpg
END:VEVENT
BEGIN:VEVENT
DTSTART;TZID=America/Chicago:20260603T113000
DTEND;TZID=America/Chicago:20260603T123000
DTSTAMP:20260421T213730
CREATED:20260209T233150Z
LAST-MODIFIED:20260408T182238Z
UID:10000701-1780486200-1780489800@firesprinkler.org
SUMMARY:Protecting Data Centers
DESCRIPTION:This webinar will discuss the fire protection of current-day data centers and information technology equipment (ITE) rooms\, with a focus on sprinkler protection. \n  \n Register & Learn More
URL:https://firesprinkler.org/calendarevent/protecting-data-centers/
LOCATION:Online Webinar
CATEGORIES:Webinar
ATTACH;FMTTYPE=image/jpeg:https://firesprinkler.org/wp-content/uploads/2022/04/live_Webinar.jpg
END:VEVENT
BEGIN:VEVENT
DTSTART;TZID=America/Chicago:20260617T113000
DTEND;TZID=America/Chicago:20260617T123000
DTSTAMP:20260421T213730
CREATED:20260421T181749Z
LAST-MODIFIED:20260421T181749Z
UID:10000763-1781695800-1781699400@firesprinkler.org
SUMMARY:Set Yourself Up for Last Look on Your Next Bid
DESCRIPTION:This webinar will challenge traditional subcontractor bidding behavior by introducing a strategic\, value-driven approach to winning work. \n  \n Register & Learn More
URL:https://firesprinkler.org/calendarevent/set-yourself-up-for-last-look-on-your-next-bid/
LOCATION:Online Webinar
CATEGORIES:Webinar
ATTACH;FMTTYPE=image/jpeg:https://firesprinkler.org/wp-content/uploads/2022/04/live_Webinar.jpg
END:VEVENT
BEGIN:VEVENT
DTSTART;TZID=America/Chicago:20260624T113000
DTEND;TZID=America/Chicago:20260624T123000
DTSTAMP:20260421T213730
CREATED:20260421T182021Z
LAST-MODIFIED:20260421T184118Z
UID:10000764-1782300600-1782304200@firesprinkler.org
SUMMARY:Proactive Project Delivery and Execution
DESCRIPTION:This webinar focuses on building strong project management through proactive planning\, disciplined execution\, and effective communication across the entire project lifecycle. \n  \n Register & Learn More
URL:https://firesprinkler.org/calendarevent/proactive-project-delivery-and-execution/
LOCATION:Online Webinar
CATEGORIES:Webinar
ATTACH;FMTTYPE=image/jpeg:https://firesprinkler.org/wp-content/uploads/2022/04/live_Webinar.jpg
END:VEVENT
BEGIN:VEVENT
DTSTART;TZID=America/Chicago:20260715T113000
DTEND;TZID=America/Chicago:20260715T123000
DTSTAMP:20260421T213730
CREATED:20260421T181025Z
LAST-MODIFIED:20260421T181025Z
UID:10000760-1784115000-1784118600@firesprinkler.org
SUMMARY:Understanding the Numbers of Your Fire Protection Company
DESCRIPTION:This webinar will demonstrate how\, much like a physical exam\, the numbers within your financial statements can diagnose the strengths and weaknesses of your fire protection firm. \n  \n Register & Learn More
URL:https://firesprinkler.org/calendarevent/understanding-the-numbers-of-your-fire-protection-company/
LOCATION:Online Webinar
CATEGORIES:Webinar
ATTACH;FMTTYPE=image/jpeg:https://firesprinkler.org/wp-content/uploads/2022/04/live_Webinar.jpg
END:VEVENT
BEGIN:VEVENT
DTSTART;TZID=America/Chicago:20260722T113000
DTEND;TZID=America/Chicago:20260722T123000
DTSTAMP:20260421T213730
CREATED:20260421T181253Z
LAST-MODIFIED:20260421T181402Z
UID:10000761-1784719800-1784723400@firesprinkler.org
SUMMARY:Enhancing Value in Your Fire Protection Firm
DESCRIPTION:This webinar will discuss four main factors that drive your firm’s value and how improving them leads to better performance. \n  \n Register & Learn More\n  \n 
URL:https://firesprinkler.org/calendarevent/enhancing-value-in-your-fire-protection-firm/
LOCATION:Online Webinar
CATEGORIES:Webinar
ATTACH;FMTTYPE=image/jpeg:https://firesprinkler.org/wp-content/uploads/2022/04/live_Webinar.jpg
END:VEVENT
BEGIN:VEVENT
DTSTART;TZID=America/Chicago:20260805T113000
DTEND;TZID=America/Chicago:20260805T123000
DTSTAMP:20260421T213730
CREATED:20260309T145740Z
LAST-MODIFIED:20260408T182338Z
UID:10000705-1785929400-1785933000@firesprinkler.org
SUMMARY:Calculating Supplemental Sprinklers
DESCRIPTION:The concept of “Supplemental Sprinklers” was introduced in the 2025 edition of NFPA 13\, Standard for the Installation of Sprinkler Systems. \n  \n Register & Learn More
URL:https://firesprinkler.org/calendarevent/calculating-supplemental-sprinklers-2/
LOCATION:Online Webinar
CATEGORIES:Webinar
ATTACH;FMTTYPE=image/jpeg:https://firesprinkler.org/wp-content/uploads/2022/04/live_Webinar.jpg
END:VEVENT
BEGIN:VEVENT
DTSTART;TZID=America/Chicago:20260819T113000
DTEND;TZID=America/Chicago:20260819T123000
DTSTAMP:20260421T213730
CREATED:20260309T150355Z
LAST-MODIFIED:20260408T182424Z
UID:10000706-1787139000-1787142600@firesprinkler.org
SUMMARY:Updates to NFPA 14\, 2027 Edition
DESCRIPTION:This webinar will provide an in-depth look at the First Revisions currently under consideration for the 2027 edition. \n  \n Register & Learn More
URL:https://firesprinkler.org/calendarevent/updates-to-nfpa-14-2027-edition/
LOCATION:Online Webinar
CATEGORIES:Webinar
ATTACH;FMTTYPE=image/jpeg:https://firesprinkler.org/wp-content/uploads/2022/04/live_Webinar.jpg
END:VEVENT
END:VCALENDAR