BEGIN:VCALENDAR
VERSION:2.0
PRODID:-//American Fire Sprinkler Association - ECPv6.15.20//NONSGML v1.0//EN
CALSCALE:GREGORIAN
METHOD:PUBLISH
X-ORIGINAL-URL:https://firesprinkler.org
X-WR-CALDESC:Events for American Fire Sprinkler Association
REFRESH-INTERVAL;VALUE=DURATION:PT1H
X-Robots-Tag:noindex
X-PUBLISHED-TTL:PT1H
BEGIN:VTIMEZONE
TZID:America/Chicago
BEGIN:DAYLIGHT
TZOFFSETFROM:-0600
TZOFFSETTO:-0500
TZNAME:CDT
DTSTART:20240310T080000
END:DAYLIGHT
BEGIN:STANDARD
TZOFFSETFROM:-0500
TZOFFSETTO:-0600
TZNAME:CST
DTSTART:20241103T070000
END:STANDARD
BEGIN:DAYLIGHT
TZOFFSETFROM:-0600
TZOFFSETTO:-0500
TZNAME:CDT
DTSTART:20250309T080000
END:DAYLIGHT
BEGIN:STANDARD
TZOFFSETFROM:-0500
TZOFFSETTO:-0600
TZNAME:CST
DTSTART:20251102T070000
END:STANDARD
BEGIN:DAYLIGHT
TZOFFSETFROM:-0600
TZOFFSETTO:-0500
TZNAME:CDT
DTSTART:20260308T080000
END:DAYLIGHT
BEGIN:STANDARD
TZOFFSETFROM:-0500
TZOFFSETTO:-0600
TZNAME:CST
DTSTART:20261101T070000
END:STANDARD
END:VTIMEZONE
BEGIN:VEVENT
DTSTART;TZID=America/Chicago:20250305T110000
DTEND;TZID=America/Chicago:20250305T120000
DTSTAMP:20260421T095409
CREATED:20250213T152927Z
LAST-MODIFIED:20250213T152927Z
UID:10000586-1741172400-1741176000@firesprinkler.org
SUMMARY:Updates to NFPA 200
DESCRIPTION:The proposed NFPA 200\, Standard for Hanging and Bracing of Fire Suppression Systems has extended its inaugural revision cycle to provide the best possible\ndocument for its users. Developed to establish criteria specific to systems other than\nsprinkler systems\, this standard will be the new authority on hanging and bracing\nrequirements for other standards to reference and extract. This presentation will\nreview the overall structure of the proposed document and detail the new requirements in the document \nThe registration deadline is 11:59 PM the day before the webinar \n Register & More Info
URL:https://firesprinkler.org/calendarevent/updates-to-nfpa-200/
LOCATION:Online Webinar
CATEGORIES:Webinar
ATTACH;FMTTYPE=image/jpeg:https://firesprinkler.org/wp-content/uploads/2022/04/live_Webinar.jpg
END:VEVENT
BEGIN:VEVENT
DTSTART;TZID=America/Chicago:20250319T110000
DTEND;TZID=America/Chicago:20250319T120000
DTSTAMP:20260421T095409
CREATED:20250213T153349Z
LAST-MODIFIED:20250225T151241Z
UID:10000587-1742382000-1742385600@firesprinkler.org
SUMMARY:NFPA 13 (2025)
DESCRIPTION:The 2025 edition of NFPA 13 has been updated to include new technologies\, more efficient means and methods\, and modified requirements based on the latest research available. This presentation will review the significant changes that were made during the standard revision cycle with an emphasis on requirements that impact the designer. Significant revisions that were made by the installation\, discharge\, and hanging and bracing committees of the NFPA 13 will be discussed. \nThe registration deadline is 11:59 PM the day before the webinar. \n  \n Register & More Info
URL:https://firesprinkler.org/calendarevent/afsa-fssa-joint-webinar/
LOCATION:Online Webinar
CATEGORIES:Webinar
ATTACH;FMTTYPE=image/jpeg:https://firesprinkler.org/wp-content/uploads/2022/04/live_Webinar.jpg
END:VEVENT
END:VCALENDAR