BEGIN:VCALENDAR
VERSION:2.0
PRODID:-//American Fire Sprinkler Association - ECPv6.15.20//NONSGML v1.0//EN
CALSCALE:GREGORIAN
METHOD:PUBLISH
X-ORIGINAL-URL:https://firesprinkler.org
X-WR-CALDESC:Events for American Fire Sprinkler Association
REFRESH-INTERVAL;VALUE=DURATION:PT1H
X-Robots-Tag:noindex
X-PUBLISHED-TTL:PT1H
BEGIN:VTIMEZONE
TZID:America/Chicago
BEGIN:DAYLIGHT
TZOFFSETFROM:-0600
TZOFFSETTO:-0500
TZNAME:CDT
DTSTART:20240310T080000
END:DAYLIGHT
BEGIN:STANDARD
TZOFFSETFROM:-0500
TZOFFSETTO:-0600
TZNAME:CST
DTSTART:20241103T070000
END:STANDARD
BEGIN:DAYLIGHT
TZOFFSETFROM:-0600
TZOFFSETTO:-0500
TZNAME:CDT
DTSTART:20250309T080000
END:DAYLIGHT
BEGIN:STANDARD
TZOFFSETFROM:-0500
TZOFFSETTO:-0600
TZNAME:CST
DTSTART:20251102T070000
END:STANDARD
BEGIN:DAYLIGHT
TZOFFSETFROM:-0600
TZOFFSETTO:-0500
TZNAME:CDT
DTSTART:20260308T080000
END:DAYLIGHT
BEGIN:STANDARD
TZOFFSETFROM:-0500
TZOFFSETTO:-0600
TZNAME:CST
DTSTART:20261101T070000
END:STANDARD
END:VTIMEZONE
BEGIN:VEVENT
DTSTART;TZID=America/Chicago:20250205T110000
DTEND;TZID=America/Chicago:20250205T120000
DTSTAMP:20260421T112220
CREATED:20250107T185541Z
LAST-MODIFIED:20250129T155643Z
UID:10000558-1738753200-1738756800@firesprinkler.org
SUMMARY:Signage Requirements in NFPA 13
DESCRIPTION:The failure to include the required signage is an obvious mistake that can be costly. Numerous signs are required by NFPA 13\, Standard for the Installation of Sprinkler Systems and other standards; however\, many sprinkler designers\, installers\, and inspectors are not familiar with the signs they are required to provide. We all know about the requirement for control valve and main drain signs\, but what about the rest? This presentation will discuss required signs and explain why they are critical for the safe operation of a sprinkler system. \n  \n  \n Register & More Info\n  \n 
URL:https://firesprinkler.org/calendarevent/signage-requirements-in-nfpa-13/
LOCATION:Online Webinar
CATEGORIES:Webinar
ATTACH;FMTTYPE=image/jpeg:https://firesprinkler.org/wp-content/uploads/2022/04/live_Webinar.jpg
END:VEVENT
BEGIN:VEVENT
DTSTART;TZID=America/Chicago:20250219T110000
DTEND;TZID=America/Chicago:20250219T120000
DTSTAMP:20260421T112220
CREATED:20250107T185818Z
LAST-MODIFIED:20250207T211816Z
UID:10000559-1739962800-1739966400@firesprinkler.org
SUMMARY:Basics of Plan Review for Sprinkler Systems (AHJ)
DESCRIPTION:This fast paced webinar will focus on 6 Key Steps to a Successful Plan Review and 7 steps to understanding computer generated hydraulic calculations. This webinar will benefit building and fire code officials who review and approve fire sprinkler plans. \n\n\n\n\n\n\n\n\n\n  \n Register & More Info\n  \nThe registration deadline is 11:59 PM the day before the webinar \n 
URL:https://firesprinkler.org/calendarevent/basics-of-plan-review-for-sprinkler-systems-ahj/
LOCATION:Online Webinar
CATEGORIES:Webinar
ATTACH;FMTTYPE=image/jpeg:https://firesprinkler.org/wp-content/uploads/2022/04/live_Webinar.jpg
END:VEVENT
END:VCALENDAR