BEGIN:VCALENDAR
VERSION:2.0
PRODID:-//American Fire Sprinkler Association - ECPv6.15.20//NONSGML v1.0//EN
CALSCALE:GREGORIAN
METHOD:PUBLISH
X-WR-CALNAME:American Fire Sprinkler Association
X-ORIGINAL-URL:https://firesprinkler.org
X-WR-CALDESC:Events for American Fire Sprinkler Association
REFRESH-INTERVAL;VALUE=DURATION:PT1H
X-Robots-Tag:noindex
X-PUBLISHED-TTL:PT1H
BEGIN:VTIMEZONE
TZID:America/Chicago
BEGIN:DAYLIGHT
TZOFFSETFROM:-0600
TZOFFSETTO:-0500
TZNAME:CDT
DTSTART:20230312T080000
END:DAYLIGHT
BEGIN:STANDARD
TZOFFSETFROM:-0500
TZOFFSETTO:-0600
TZNAME:CST
DTSTART:20231105T070000
END:STANDARD
BEGIN:DAYLIGHT
TZOFFSETFROM:-0600
TZOFFSETTO:-0500
TZNAME:CDT
DTSTART:20240310T080000
END:DAYLIGHT
BEGIN:STANDARD
TZOFFSETFROM:-0500
TZOFFSETTO:-0600
TZNAME:CST
DTSTART:20241103T070000
END:STANDARD
BEGIN:DAYLIGHT
TZOFFSETFROM:-0600
TZOFFSETTO:-0500
TZNAME:CDT
DTSTART:20250309T080000
END:DAYLIGHT
BEGIN:STANDARD
TZOFFSETFROM:-0500
TZOFFSETTO:-0600
TZNAME:CST
DTSTART:20251102T070000
END:STANDARD
END:VTIMEZONE
BEGIN:VEVENT
DTSTART;TZID=America/Chicago:20241009T110000
DTEND;TZID=America/Chicago:20241009T120000
DTSTAMP:20260421T170029
CREATED:20240708T170933Z
LAST-MODIFIED:20240708T170933Z
UID:10000470-1728471600-1728475200@firesprinkler.org
SUMMARY:Updates to NFPA 25\, 2026 edition
DESCRIPTION:This presentation will discuss the revisions that were made to the 2023 edition of NFPA 25 Standard for the Inspection\, Testing\, and Maintenance of Water-Based Fire Protection Systems. After a brief overview of the NFPA standard development process\, the presentation will review the important changes made to the document during the first and second draft\, including insights into the technical committee’s discussions during the meeting and intent. \n  \n Learn More and Register\n  \n 
URL:https://firesprinkler.org/calendarevent/updates-to-nfpa-25-2026-edition/
LOCATION:Online Webinar
CATEGORIES:Webinar
ATTACH;FMTTYPE=image/jpeg:https://firesprinkler.org/wp-content/uploads/2022/04/live_Webinar.jpg
END:VEVENT
BEGIN:VEVENT
DTSTART;TZID=America/Chicago:20241016T110000
DTEND;TZID=America/Chicago:20241016T120000
DTSTAMP:20260421T170029
CREATED:20240917T022838Z
LAST-MODIFIED:20240917T022953Z
UID:10000491-1729076400-1729080000@firesprinkler.org
SUMMARY:Storage Sprinkler Hydraulics
DESCRIPTION:There are a variety of sprinkler technologies on the market to protect modern storage arrangements. This presentation will review the basic discharge requirements for CMDA\, CMSA\, and ESFR sprinklers in NFPA 13. In addition\, this presentation will explore new concepts introduced for the 2025 edition of NFPA 13 as well as alternate design approaches that are available from other resources. \n Learn More and Register
URL:https://firesprinkler.org/calendarevent/storage-sprinkler-hydraulics/
LOCATION:Online Webinar
CATEGORIES:Webinar
ATTACH;FMTTYPE=image/jpeg:https://firesprinkler.org/wp-content/uploads/2022/04/live_Webinar.jpg
END:VEVENT
END:VCALENDAR