BEGIN:VCALENDAR
VERSION:2.0
PRODID:-//American Fire Sprinkler Association - ECPv6.15.20//NONSGML v1.0//EN
CALSCALE:GREGORIAN
METHOD:PUBLISH
X-ORIGINAL-URL:https://firesprinkler.org
X-WR-CALDESC:Events for American Fire Sprinkler Association
REFRESH-INTERVAL;VALUE=DURATION:PT1H
X-Robots-Tag:noindex
X-PUBLISHED-TTL:PT1H
BEGIN:VTIMEZONE
TZID:America/Chicago
BEGIN:DAYLIGHT
TZOFFSETFROM:-0600
TZOFFSETTO:-0500
TZNAME:CDT
DTSTART:20230312T080000
END:DAYLIGHT
BEGIN:STANDARD
TZOFFSETFROM:-0500
TZOFFSETTO:-0600
TZNAME:CST
DTSTART:20231105T070000
END:STANDARD
BEGIN:DAYLIGHT
TZOFFSETFROM:-0600
TZOFFSETTO:-0500
TZNAME:CDT
DTSTART:20240310T080000
END:DAYLIGHT
BEGIN:STANDARD
TZOFFSETFROM:-0500
TZOFFSETTO:-0600
TZNAME:CST
DTSTART:20241103T070000
END:STANDARD
BEGIN:DAYLIGHT
TZOFFSETFROM:-0600
TZOFFSETTO:-0500
TZNAME:CDT
DTSTART:20250309T080000
END:DAYLIGHT
BEGIN:STANDARD
TZOFFSETFROM:-0500
TZOFFSETTO:-0600
TZNAME:CST
DTSTART:20251102T070000
END:STANDARD
END:VTIMEZONE
BEGIN:VEVENT
DTSTART;TZID=America/Chicago:20240601T100000
DTEND;TZID=America/Chicago:20240601T110000
DTSTAMP:20260421T224007
CREATED:20240402T202314Z
LAST-MODIFIED:20240424T140601Z
UID:10000430-1717236000-1717239600@firesprinkler.org
SUMMARY:Sprinkler Testing (CAL-Fire Approved)
DESCRIPTION:This presentation will review the requirements for testing sprinklers in NFPA 25. Specific topics will include the testing interval required based on the sprinkler type and installation environment\, selection of representative samples\, additional requirements for concealed sprinklers and sprinkler guards. Additionally\, this presentation will discuss proposed changes to the latest edition of NFPA 25 and their potential impact on contractors and inspectors. While it is critical for sprinkler systems to be properly designed and installed\, it is equally important for these systems to be periodically inspected\, tested\, and properly maintained to ensure that system equipment will perform as intended. CAL-Fire Approved. \nRegistration closes 5/31/2024 at midnight. \n  \n Learn More and Register
URL:https://firesprinkler.org/calendarevent/sprinkler-testing/
LOCATION:Online Webinar
CATEGORIES:Webinar
ATTACH;FMTTYPE=image/jpeg:https://firesprinkler.org/wp-content/uploads/2022/04/live_Webinar.jpg
END:VEVENT
END:VCALENDAR