BEGIN:VCALENDAR
VERSION:2.0
PRODID:-//American Fire Sprinkler Association - ECPv6.15.20//NONSGML v1.0//EN
CALSCALE:GREGORIAN
METHOD:PUBLISH
X-ORIGINAL-URL:https://firesprinkler.org
X-WR-CALDESC:Events for American Fire Sprinkler Association
REFRESH-INTERVAL;VALUE=DURATION:PT1H
X-Robots-Tag:noindex
X-PUBLISHED-TTL:PT1H
BEGIN:VTIMEZONE
TZID:America/Chicago
BEGIN:DAYLIGHT
TZOFFSETFROM:-0600
TZOFFSETTO:-0500
TZNAME:CDT
DTSTART:20230312T080000
END:DAYLIGHT
BEGIN:STANDARD
TZOFFSETFROM:-0500
TZOFFSETTO:-0600
TZNAME:CST
DTSTART:20231105T070000
END:STANDARD
BEGIN:DAYLIGHT
TZOFFSETFROM:-0600
TZOFFSETTO:-0500
TZNAME:CDT
DTSTART:20240310T080000
END:DAYLIGHT
BEGIN:STANDARD
TZOFFSETFROM:-0500
TZOFFSETTO:-0600
TZNAME:CST
DTSTART:20241103T070000
END:STANDARD
BEGIN:DAYLIGHT
TZOFFSETFROM:-0600
TZOFFSETTO:-0500
TZNAME:CDT
DTSTART:20250309T080000
END:DAYLIGHT
BEGIN:STANDARD
TZOFFSETFROM:-0500
TZOFFSETTO:-0600
TZNAME:CST
DTSTART:20251102T070000
END:STANDARD
END:VTIMEZONE
BEGIN:VEVENT
DTSTART;TZID=America/Chicago:20240410T110000
DTEND;TZID=America/Chicago:20240410T120000
DTSTAMP:20260422T013022
CREATED:20240326T171349Z
LAST-MODIFIED:20240328T200848Z
UID:10000406-1712746800-1712750400@firesprinkler.org
SUMMARY:Hydraulic Calculations - AHJ Webinar
DESCRIPTION:Join our webinar to learn how to understand sprinkler hydraulic calculation sheets\, including common notations\, pinch points\, and basic calculations. The webinar will break down the key information needed in these sheets and explain the equations used to find it. It also explore important areas to focus on when reviewing hydraulic calculations. \nRegistration ends 4/9/2024 at midnight. \n  \n Learn More and Register
URL:https://firesprinkler.org/calendarevent/hydraulic-calculations-ahj-webinar/
LOCATION:Online Webinar
CATEGORIES:Webinar
ATTACH;FMTTYPE=image/jpeg:https://firesprinkler.org/wp-content/uploads/2022/04/live_Webinar.jpg
END:VEVENT
BEGIN:VEVENT
DTSTART;TZID=America/Chicago:20240424T110000
DTEND;TZID=America/Chicago:20240424T120000
DTSTAMP:20260422T013022
CREATED:20240328T193019Z
LAST-MODIFIED:20240328T200201Z
UID:10000424-1713956400-1713960000@firesprinkler.org
SUMMARY:Alternate Power for Fire Pumps
DESCRIPTION:What is an alternate power supply for a fire pump system and when is it required is often misunderstood for a fire pump system. Key questions will be discussed so this issue does not cause surprises to the contractor. \nRegistration closes 4/23/2024 at midnight. \n  \n Learn More and Register
URL:https://firesprinkler.org/calendarevent/alternate-power-for-fire-pumps/
LOCATION:Online Webinar
CATEGORIES:Webinar
ATTACH;FMTTYPE=image/jpeg:https://firesprinkler.org/wp-content/uploads/2022/04/live_Webinar.jpg
END:VEVENT
END:VCALENDAR