BEGIN:VCALENDAR
VERSION:2.0
PRODID:-//American Fire Sprinkler Association - ECPv6.15.20//NONSGML v1.0//EN
CALSCALE:GREGORIAN
METHOD:PUBLISH
X-ORIGINAL-URL:https://firesprinkler.org
X-WR-CALDESC:Events for American Fire Sprinkler Association
REFRESH-INTERVAL;VALUE=DURATION:PT1H
X-Robots-Tag:noindex
X-PUBLISHED-TTL:PT1H
BEGIN:VTIMEZONE
TZID:UTC
BEGIN:STANDARD
TZOFFSETFROM:+0000
TZOFFSETTO:+0000
TZNAME:UTC
DTSTART:20220101T000000
END:STANDARD
END:VTIMEZONE
BEGIN:VTIMEZONE
TZID:America/Chicago
BEGIN:DAYLIGHT
TZOFFSETFROM:-0600
TZOFFSETTO:-0500
TZNAME:CDT
DTSTART:20220313T080000
END:DAYLIGHT
BEGIN:STANDARD
TZOFFSETFROM:-0500
TZOFFSETTO:-0600
TZNAME:CST
DTSTART:20221106T070000
END:STANDARD
BEGIN:DAYLIGHT
TZOFFSETFROM:-0600
TZOFFSETTO:-0500
TZNAME:CDT
DTSTART:20230312T080000
END:DAYLIGHT
BEGIN:STANDARD
TZOFFSETFROM:-0500
TZOFFSETTO:-0600
TZNAME:CST
DTSTART:20231105T070000
END:STANDARD
BEGIN:DAYLIGHT
TZOFFSETFROM:-0600
TZOFFSETTO:-0500
TZNAME:CDT
DTSTART:20240310T080000
END:DAYLIGHT
BEGIN:STANDARD
TZOFFSETFROM:-0500
TZOFFSETTO:-0600
TZNAME:CST
DTSTART:20241103T070000
END:STANDARD
END:VTIMEZONE
BEGIN:VEVENT
DTSTART;TZID=UTC:20231101T110000
DTEND;TZID=UTC:20231101T120000
DTSTAMP:20260422T084316
CREATED:20230220T195259Z
LAST-MODIFIED:20230220T195259Z
UID:10000210-1698836400-1698840000@firesprinkler.org
SUMMARY:Proposed Updates to NFPA 20
DESCRIPTION:NFPA 20\, Standard for the Installation of Stationary Pumps for Fire Protection\, is concluding its revision cycle\, and the language that will be included in the 2025 edition is almost set. This webinar will review the important first and second draft revisions and provide an update on any topics that may be up for debate at the NFPA Technical meeting in 2024. \nLearning Objectives: \n1.    Determine the required qualifications to design and install fire pumps\n2.    Identify technical terms that were unified and correlated during the last revision cycle\n3.    Determine the power requirements for a centrifugal fire pump\n4.    Identify the requirements for circulation relief valves when using different fire pump types\n5.    Locate electrical requirements scattered throughout the document\n6.    Locate and apply clarified ITM and acceptance testing requirements \n  \n Learn More and Register\n  \nDetails:  \nRegistration Fees (per person): \nAFSA  Member Without CEU: FREE\nAFSA Member With CEU: $25.00\nAHJ Without CEU: FREE\nAHJ With CEU: $15\nNon-Member: $250 \nContinuing Education Credit: \nThis webinar offers: 0.1 CEUs\, 1.0 CPDs \nTo receive continuing education credits for the webinar\, you must do all of the following: \n\nRegister individually using your name that matches your fitter certification\, if applicable.\nConnect with your unique webinar link.\nDo not share or use someone else’s unique webinar link.\nAttend the webinar in its entirety\nRespond to each checkpoint question\nSubmit a completed evaluation form within 14 days of the webinar\n\nPlease check your time zone to ensure you connect at the right time: \n9:00 AM – 10:00 AM Pacific Time \n10:00 AM – 11:00 AM Mountain Time \n11:00 AM – 12:00 PM Central Time \n12:00 PM – 1:00 PM Eastern Time 
URL:https://firesprinkler.org/calendarevent/proposed-updates-to-nfpa-20/
LOCATION:Online Webinar
CATEGORIES:Webinar
ATTACH;FMTTYPE=image/jpeg:https://firesprinkler.org/wp-content/uploads/2022/05/185A0850-scaled.jpg
END:VEVENT
BEGIN:VEVENT
DTSTART;TZID=America/Chicago:20231129T110000
DTEND;TZID=America/Chicago:20231129T120000
DTSTAMP:20260422T084316
CREATED:20231106T224417Z
LAST-MODIFIED:20231106T224417Z
UID:10000307-1701255600-1701259200@firesprinkler.org
SUMMARY:AFSA Webinar: Maximizing the Benefits of NFPA LiNK
DESCRIPTION:For new\, existing\, and potential subscribers to NFPA LiNK. Learn about all the features within LiNK and how you can leverage them to better collaborate with your team\, educate yourself and others\, and become more efficient in finding the information you need. \n  \n Register\n 
URL:https://firesprinkler.org/calendarevent/afsa-webinar-maximizing-the-benefits-of-nfpa-link/
LOCATION:Online Webinar
CATEGORIES:Webinar
ATTACH;FMTTYPE=image/jpeg:https://firesprinkler.org/wp-content/uploads/2022/04/live_Webinar.jpg
END:VEVENT
END:VCALENDAR