BEGIN:VCALENDAR
VERSION:2.0
PRODID:-//American Fire Sprinkler Association - ECPv6.15.20//NONSGML v1.0//EN
CALSCALE:GREGORIAN
METHOD:PUBLISH
X-ORIGINAL-URL:https://firesprinkler.org
X-WR-CALDESC:Events for American Fire Sprinkler Association
REFRESH-INTERVAL;VALUE=DURATION:PT1H
X-Robots-Tag:noindex
X-PUBLISHED-TTL:PT1H
BEGIN:VTIMEZONE
TZID:UTC
BEGIN:STANDARD
TZOFFSETFROM:+0000
TZOFFSETTO:+0000
TZNAME:UTC
DTSTART:20220101T000000
END:STANDARD
END:VTIMEZONE
BEGIN:VEVENT
DTSTART;TZID=UTC:20230913T110000
DTEND;TZID=UTC:20230913T120000
DTSTAMP:20260422T115114
CREATED:20230220T194529Z
LAST-MODIFIED:20230220T194529Z
UID:10000208-1694602800-1694606400@firesprinkler.org
SUMMARY:Storage Sprinkler Obstructions
DESCRIPTION:Control Mode Specific Application (CMSA) sprinklers and Early Suppression Fast Response (ESFR) sprinklers use lots of water to control high-challenge fires. These types of sprinklers are often more sensitive to obstructions than other types.  Learn the obstructions’ impact and how to space the sprinklers near them appropriately. In recent years\, research has led to new guidelines to assist users in installing storage sprinklers when obstructions are present. \nLearning Objectives: \n1.    Explain the impact of obstructions on CMSA sprinklers.\n2.    Explain the impact of obstructions on ESFR sprinklers.\n3.    Discuss the variations in obstruction criteria between the different types of storage sprinklers.\n4.    Use the obstruction guidelines to locate CMSA and ESFR sprinklers efficiently. \n  \n Learn More and Register\n  \nDetails:  \nRegistration Fees (per person): \nAFSA  Member Without CEU: FREE\nAFSA Member With CEU: $25.00\nAHJ Without CEU: FREE\nAHJ With CEU: $15\nNon-Member: $250 \nContinuing Education Credit: \nThis webinar offers: 0.1 CEUs\, 1.0 CPDs \nTo receive continuing education credits for the webinar\, you must do all of the following: \n\nRegister individually using your name that matches your fitter certification\, if applicable.\nConnect with your unique webinar link.\nDo not share or use someone else’s unique webinar link.\nAttend the webinar in its entirety\nRespond to each checkpoint question\nSubmit a completed evaluation form within 14 days of the webinar\n\nPlease check your time zone to ensure you connect at the right time: \n9:00 AM – 10:00 AM Pacific Time \n10:00 AM – 11:00 AM Mountain Time \n11:00 AM – 12:00 PM Central Time \n12:00 PM – 1:00 PM Eastern Time 
URL:https://firesprinkler.org/calendarevent/storage-sprinkler-obstructions/
LOCATION:Online Webinar
CATEGORIES:Webinar
ATTACH;FMTTYPE=image/jpeg:https://firesprinkler.org/wp-content/uploads/2022/10/Rack_Storage.jpg
END:VEVENT
END:VCALENDAR