BEGIN:VCALENDAR
VERSION:2.0
PRODID:-//American Fire Sprinkler Association - ECPv6.15.20//NONSGML v1.0//EN
CALSCALE:GREGORIAN
METHOD:PUBLISH
X-WR-CALNAME:American Fire Sprinkler Association
X-ORIGINAL-URL:https://firesprinkler.org
X-WR-CALDESC:Events for American Fire Sprinkler Association
REFRESH-INTERVAL;VALUE=DURATION:PT1H
X-Robots-Tag:noindex
X-PUBLISHED-TTL:PT1H
BEGIN:VTIMEZONE
TZID:America/Chicago
BEGIN:DAYLIGHT
TZOFFSETFROM:-0600
TZOFFSETTO:-0500
TZNAME:CDT
DTSTART:20220313T080000
END:DAYLIGHT
BEGIN:STANDARD
TZOFFSETFROM:-0500
TZOFFSETTO:-0600
TZNAME:CST
DTSTART:20221106T070000
END:STANDARD
BEGIN:DAYLIGHT
TZOFFSETFROM:-0600
TZOFFSETTO:-0500
TZNAME:CDT
DTSTART:20230312T080000
END:DAYLIGHT
BEGIN:STANDARD
TZOFFSETFROM:-0500
TZOFFSETTO:-0600
TZNAME:CST
DTSTART:20231105T070000
END:STANDARD
BEGIN:DAYLIGHT
TZOFFSETFROM:-0600
TZOFFSETTO:-0500
TZNAME:CDT
DTSTART:20240310T080000
END:DAYLIGHT
BEGIN:STANDARD
TZOFFSETFROM:-0500
TZOFFSETTO:-0600
TZNAME:CST
DTSTART:20241103T070000
END:STANDARD
BEGIN:DAYLIGHT
TZOFFSETFROM:-0600
TZOFFSETTO:-0500
TZNAME:CDT
DTSTART:20250309T080000
END:DAYLIGHT
BEGIN:STANDARD
TZOFFSETFROM:-0500
TZOFFSETTO:-0600
TZNAME:CST
DTSTART:20251102T070000
END:STANDARD
BEGIN:DAYLIGHT
TZOFFSETFROM:-0600
TZOFFSETTO:-0500
TZNAME:CDT
DTSTART:20260308T080000
END:DAYLIGHT
BEGIN:STANDARD
TZOFFSETFROM:-0500
TZOFFSETTO:-0600
TZNAME:CST
DTSTART:20261101T070000
END:STANDARD
END:VTIMEZONE
BEGIN:VTIMEZONE
TZID:America/Los_Angeles
BEGIN:DAYLIGHT
TZOFFSETFROM:-0800
TZOFFSETTO:-0700
TZNAME:PDT
DTSTART:20230312T100000
END:DAYLIGHT
BEGIN:STANDARD
TZOFFSETFROM:-0700
TZOFFSETTO:-0800
TZNAME:PST
DTSTART:20231105T090000
END:STANDARD
BEGIN:DAYLIGHT
TZOFFSETFROM:-0800
TZOFFSETTO:-0700
TZNAME:PDT
DTSTART:20240310T100000
END:DAYLIGHT
BEGIN:STANDARD
TZOFFSETFROM:-0700
TZOFFSETTO:-0800
TZNAME:PST
DTSTART:20241103T090000
END:STANDARD
BEGIN:DAYLIGHT
TZOFFSETFROM:-0800
TZOFFSETTO:-0700
TZNAME:PDT
DTSTART:20250309T100000
END:DAYLIGHT
BEGIN:STANDARD
TZOFFSETFROM:-0700
TZOFFSETTO:-0800
TZNAME:PST
DTSTART:20251102T090000
END:STANDARD
END:VTIMEZONE
BEGIN:VTIMEZONE
TZID:UTC
BEGIN:STANDARD
TZOFFSETFROM:+0000
TZOFFSETTO:+0000
TZNAME:UTC
DTSTART:20220101T000000
END:STANDARD
END:VTIMEZONE
BEGIN:VEVENT
DTSTART;TZID=America/Chicago:20250402T110000
DTEND;TZID=America/Chicago:20250402T120000
DTSTAMP:20260422T021400
CREATED:20250213T153904Z
LAST-MODIFIED:20250221T191340Z
UID:10000588-1743591600-1743595200@firesprinkler.org
SUMMARY:Impairment Procedures (Fitter Zone)
DESCRIPTION:This webinar breaks down the key requirements outlined in Chapter 15 of NFPA 25. We’ll explore the roles and responsibilities of all parties involved in the impairment process\, providing clarity on each individual’s duties. Explore real-world examples and discuss proper documentation and communication that needs to happen during various stages of the impairment process. \nThe registration deadline is 11:59 PM the day before the webinar. \n  \n Register & More Info\n  \nThis webinar is CAL-FIRE Approved.
URL:https://firesprinkler.org/calendarevent/impairment-procedures-fitter-zone/
LOCATION:Online Webinar
CATEGORIES:Fitter Zone,Webinar
ATTACH;FMTTYPE=image/jpeg:https://firesprinkler.org/wp-content/uploads/2021/06/Fitter_zone_Logo.jpg
END:VEVENT
BEGIN:VEVENT
DTSTART;TZID=America/Chicago:20250115T110000
DTEND;TZID=America/Chicago:20250115T120000
DTSTAMP:20260422T021400
CREATED:20250106T180459Z
LAST-MODIFIED:20250106T180459Z
UID:10000557-1736938800-1736942400@firesprinkler.org
SUMMARY:Anchorage and Support of Fire Pumps (Fitter Zone)
DESCRIPTION:Join us for a focused webinar on the anchorage and support of fire pumps as outlined in NFPA 20\, 2025 edition and NFPA 200\, 2026 edition. Participants will gain essential insights into the requirements and design considerations for effective fire pump installations. This webinar will discuss the anchoring and support techniques and the importance of reducing vibration and increasing safety in the pump room. \n  \n Register & More Info
URL:https://firesprinkler.org/calendarevent/anchorage-and-support-of-fire-pumps-fitter-zone/
LOCATION:Online Webinar
CATEGORIES:Fitter Zone,Webinar
ATTACH;FMTTYPE=image/jpeg:https://firesprinkler.org/wp-content/uploads/2021/06/Fitter_zone_Logo.jpg
END:VEVENT
BEGIN:VEVENT
DTSTART;TZID=America/Chicago:20240323T100000
DTEND;TZID=America/Chicago:20240323T110000
DTSTAMP:20260422T021400
CREATED:20231213T184951Z
LAST-MODIFIED:20240319T174719Z
UID:10000329-1711188000-1711191600@firesprinkler.org
SUMMARY:Internal Inspections and Obstruction Investigations
DESCRIPTION:This presentation will discuss the requirements for internal assessments and obstruction investigations required to maintain sprinkler systems in accordance with NFPA 25. In addition to the 5-year internal assessment\, this presentation will detail the triggers for an obstruction investigation and the common causes of internal obstructions and corrosion within water-based fire protection systems. \n  \n Learn More & Register
URL:https://firesprinkler.org/calendarevent/internal-inspections-and-obstruction-investigations/
LOCATION:Online Webinar
CATEGORIES:Fitter Zone,Webinar
ATTACH;FMTTYPE=image/jpeg:https://firesprinkler.org/wp-content/uploads/2021/06/Fitter_zone_Logo.jpg
END:VEVENT
BEGIN:VEVENT
DTSTART;VALUE=DATE:20240307
DTEND;VALUE=DATE:20240308
DTSTAMP:20260422T021400
CREATED:20240215T235758Z
LAST-MODIFIED:20240215T235758Z
UID:10000389-1709769600-1709855999@firesprinkler.org
SUMMARY:AFSA Sacramento Valley Chapter Training
DESCRIPTION:The Sacramento Valley Chapter is pleased to present 6 hours of CAL FIRE-approved instruction on March 7\, 2024. AFSA Vice President of Technical Services & Engineering\, John Denhardt\, P.E.\, FSFPE will present on Fire Pump Installation and Applying NFPA 25. Following these seminars\, the Sacramento Valley Chapter is hosting its 12th Annual Trade Show at a nearby venue. \n  \n Learn More and Register
URL:https://firesprinkler.org/calendarevent/afsa-sacramento-valley-chapter-training/
LOCATION:Placer County Association of REALTORS\, 270 Technology Way Suite 100\, Rocklin\, CA\, 95765\, United States
CATEGORIES:Chapter Event,Fitter Zone
ATTACH;FMTTYPE=image/png:https://firesprinkler.org/wp-content/uploads/2024/02/Sacramento_Valley_Chapter.png
END:VEVENT
BEGIN:VEVENT
DTSTART;TZID=UTC:20231014T100000
DTEND;TZID=UTC:20231014T110000
DTSTAMP:20260422T021400
CREATED:20230220T194853Z
LAST-MODIFIED:20231009T135330Z
UID:10000209-1697277600-1697281200@firesprinkler.org
SUMMARY:Sprinkler Types & Characteristics (CAL FIRE)
DESCRIPTION:This webinar details differences in sprinkler types and considerations for design and inspection\, testing\, and maintenance.  This webinar will discuss key differences in orientation\, spray patterns\, response\, temperature rating\, and application. Specific topics will include residential sprinklers\, ESFR sprinklers\, CMSA sprinklers\, standard spray sprinklers\, special sprinklers\, and nozzles. \nLearning Objectives: \n1.    Identify the different spray patterns of the different sprinkler types\n2.    Differentiate between standard response\, fast response\, special response\, and quick-response\n3.    Identify the components of a sprinkler\n4.    Identify the temperature rating based on color code and proximity to heat sources \n Learn More and Register\nDetails:  \nRegistration Fees (per person): \nAFSA  Member Without CEU: FREE\nAFSA Member With CEU: $25.00\nAHJ Without CEU: FREE\nAHJ With CEU: $15\nNon-Member: $250 \nContinuing Education Credit: \nThis webinar offers: 0.1 CEUs\, 1.0 CPDs \nTo receive continuing education credits for the webinar\, you must do all of the following: \n\nRegister individually using your name that matches your fitter certification\, if applicable.\nConnect with your unique webinar link.\nDo not share or use someone else’s unique webinar link.\nAttend the webinar in its entirety\nRespond to each checkpoint question\nSubmit a completed evaluation form within 14 days of the webinar\n\nPlease check your time zone to ensure you connect at the right time: \n9:00 AM – 10:00 AM Pacific Time \n10:00 AM – 11:00 AM Mountain Time \n11:00 AM – 12:00 PM Central Time \n12:00 PM – 1:00 PM Eastern Time 
URL:https://firesprinkler.org/calendarevent/sprinkler-types-characteristics-cal-fire/
LOCATION:Online Webinar
CATEGORIES:Fitter Zone,Webinar
ATTACH;FMTTYPE=image/jpeg:https://firesprinkler.org/wp-content/uploads/2021/06/sprinklers_whitebg.jpg
END:VEVENT
BEGIN:VEVENT
DTSTART;TZID=UTC:20230719T110000
DTEND;TZID=UTC:20230719T120000
DTSTAMP:20260422T021400
CREATED:20230220T193652Z
LAST-MODIFIED:20230328T145920Z
UID:10000206-1689764400-1689768000@firesprinkler.org
SUMMARY:ITM of Standpipe Systems (CAL FIRE)
DESCRIPTION:This session will examine requirements for inspection\, testing\, and maintenance of standpipe systems according to the 2020 edition of NFPA 25. Presenters will discuss key equipment installed on standpipe systems and how it should be tested. Discussion will include evaluating test results\, how to classify conditions that could impact the performance of the standpipe system\, and potential changes to NFPA 25 and NFPA 14 that could impact future standpipe testing. \nLearning Objectives: \n1.    Examine current requirements for periodic standpipe system inspection\, testing\, and maintenance.\n2.    Discuss key equipment installed on standpipe systems\, such as hose valves\, pressure-regulating devices\, and pressure-restricting devices.\n3.    Identify methods of conducting flow testing of standpipe systems and hydrostatic testing of standpipe systems and fire department connections.\n4.    Analyze testing results and determine how to classify findings that may impact system performance.\n5.    Evaluate potential changes being discussed to NFPA 14 and NFPA 25 that could impact future inspection\, testing\, and maintenance of standpipe systems. \n  \n Learn More and Register\n  \nDetails:  \nRegistration Fees (per person):\nAFSA  Member Without CEU: FREE\nAFSA Member With CEU: $25.00\nAHJ Without CEU: FREE\nAHJ With CEU: $15\nNon-Member: $250 \nContinuing Education Credit: \nThis webinar offers: 0.1 CEUs\, 1.0 CPDs \nTo receive continuing education credits for the webinar\, you must do all of the following: \n\nRegister individually using your name that matches your fitter certification\, if applicable.\nConnect with your unique webinar link.\nDo not share or use someone else’s unique webinar link.\nAttend the webinar in its entirety\nRespond to each checkpoint question\nSubmit a completed evaluation form within 14 days of the webinar\n\nPlease check your time zone to ensure you connect at the right time: \n9:00 AM – 10:00 AM Pacific Time \n10:00 AM – 11:00 AM Mountain Time \n11:00 AM – 12:00 PM Central Time \n12:00 PM – 1:00 PM Eastern Time 
URL:https://firesprinkler.org/calendarevent/standpipe-itm-cal-fire/
LOCATION:Online Webinar
CATEGORIES:Fitter Zone,Webinar
ATTACH;FMTTYPE=image/jpeg:https://firesprinkler.org/wp-content/uploads/2023/02/Standpipe.jpg
END:VEVENT
BEGIN:VEVENT
DTSTART;TZID=UTC:20230517T110000
DTEND;TZID=UTC:20230517T120000
DTSTAMP:20260422T021400
CREATED:20230220T191847Z
LAST-MODIFIED:20230328T145406Z
UID:10000203-1684321200-1684324800@firesprinkler.org
SUMMARY:Sprinkler System Working Plan Requirements (CAL FIRE)
DESCRIPTION:This course will detail the requirements for working plans. This course will discuss the importance of the items required on working plans for approvals and submission. Specific topics include water supply information\, equipment\, hangers\, and bracing. \n Learn More and Register\n  \nLearning Objectives: \n1.    Identify the information that is required to be located on the working plans\n2.    Understand the requirements when changes to the working plans are made in the field \nDetails:  \nRegistration Fees (per person): \nAFSA  Member Without CEU: FREE\nAFSA Member With CEU: $25.00\nAHJ Without CEU: FREE\nAHJ With CEU: $15\nNon-Member: $250 \nContinuing Education Credit: \nThis webinar offers: 0.1 CEUs\, 1.0 CPDs \nTo receive continuing education credits for the webinar\, you must do all of the following: \n\nRegister individually using your name that matches your fitter certification\, if applicable.\nConnect with your unique webinar link.\nDo not share or use someone else’s unique webinar link.\nAttend the webinar in its entirety\nRespond to each checkpoint question\nSubmit a completed evaluation form within 14 days of the webinar\n\nPlease check your time zone to ensure you connect at the right time: \n9:00 AM – 10:00 AM Pacific Time \n10:00 AM – 11:00 AM Mountain Time \n11:00 AM – 12:00 PM Central Time \n12:00 PM – 1:00 PM Eastern Time 
URL:https://firesprinkler.org/calendarevent/sprinkler-system-working-plan-requirements/
LOCATION:Online Webinar
CATEGORIES:Fitter Zone,Webinar
ATTACH;FMTTYPE=image/jpeg:https://firesprinkler.org/wp-content/uploads/2022/07/Fitter_hangs_pvc_pipe.jpg
END:VEVENT
BEGIN:VEVENT
DTSTART;TZID=America/Chicago:20230412T110000
DTEND;TZID=America/Chicago:20230412T120000
DTSTAMP:20260422T021400
CREATED:20230104T152117Z
LAST-MODIFIED:20230328T145607Z
UID:10000193-1681297200-1681300800@firesprinkler.org
SUMMARY:Responsibilities of Layout Technician & Installer (CAL FIRE)
DESCRIPTION:Join us for a webinar to learn about the responsibilities of a layout technician and an installer. The communication and relationship between the layout technician and the installer are crucial throughout the project to provide proper protection. The layout technician must clearly illustrate what is required by code and in the installation\, and the installer is required to make the system come to life. This discussion will clarify what both parties require to complete the job efficiently and effectively. \nLearning Objectives: \n1. Identify the pinch communication points between a layout technician and an installer.\n2. Differentiate the responsibilities of a layout technician from the engineer of record\n3. Detail the tasks required of the installer \nDetails:  \nRegistration Fees (per person): \nAFSA Member with no CEU: FREE\nAFSA Member with CEU: $25\nNon-Member: $250\nAHJ without CEU: FREE\nAHJ with CEU: $15 \nContinuing Education Credit: \nThis webinar offers: 0.1 CEUs\, 1.0 CPDs \nTo receive continuing education credits for the webinar\, you must do all of the following: \n\nRegister individually using your name that matches your fitter certification\, if applicable.\nConnect with your unique webinar link\nDo not share or use someone else’s unique webinar link.\nAttend the webinar in its entirety\nRespond to each checkpoint question\nSubmit a completed evaluation form within 14 days of the webinar\n\nPlease check your time zone to ensure you connect at the right time: \n9:00 AM – 10:00 AM Pacific Time\n10:00 AM – 11:00 AM Mountain Time\n11:00 AM – 12:00 PM Central Time\n12:00 PM – 1:00 PM Eastern Time  \n Register
URL:https://firesprinkler.org/calendarevent/responsibilities-of-layout-technician-installer/
LOCATION:Online Webinar
CATEGORIES:Fitter Zone,Webinar
ATTACH;FMTTYPE=image/jpeg:https://firesprinkler.org/wp-content/uploads/2022/04/live_Webinar.jpg
ORGANIZER;CN="AFSA":MAILTO:training@firesprinkler.org
END:VEVENT
END:VCALENDAR