BEGIN:VCALENDAR
VERSION:2.0
PRODID:-//American Fire Sprinkler Association - ECPv6.15.20//NONSGML v1.0//EN
CALSCALE:GREGORIAN
METHOD:PUBLISH
X-WR-CALNAME:American Fire Sprinkler Association
X-ORIGINAL-URL:https://firesprinkler.org
X-WR-CALDESC:Events for American Fire Sprinkler Association
REFRESH-INTERVAL;VALUE=DURATION:PT1H
X-Robots-Tag:noindex
X-PUBLISHED-TTL:PT1H
BEGIN:VTIMEZONE
TZID:America/Chicago
BEGIN:DAYLIGHT
TZOFFSETFROM:-0600
TZOFFSETTO:-0500
TZNAME:CDT
DTSTART:20240310T080000
END:DAYLIGHT
BEGIN:STANDARD
TZOFFSETFROM:-0500
TZOFFSETTO:-0600
TZNAME:CST
DTSTART:20241103T070000
END:STANDARD
BEGIN:DAYLIGHT
TZOFFSETFROM:-0600
TZOFFSETTO:-0500
TZNAME:CDT
DTSTART:20250309T080000
END:DAYLIGHT
BEGIN:STANDARD
TZOFFSETFROM:-0500
TZOFFSETTO:-0600
TZNAME:CST
DTSTART:20251102T070000
END:STANDARD
BEGIN:DAYLIGHT
TZOFFSETFROM:-0600
TZOFFSETTO:-0500
TZNAME:CDT
DTSTART:20260308T080000
END:DAYLIGHT
BEGIN:STANDARD
TZOFFSETFROM:-0500
TZOFFSETTO:-0600
TZNAME:CST
DTSTART:20261101T070000
END:STANDARD
END:VTIMEZONE
BEGIN:VTIMEZONE
TZID:America/Los_Angeles
BEGIN:DAYLIGHT
TZOFFSETFROM:-0800
TZOFFSETTO:-0700
TZNAME:PDT
DTSTART:20240310T100000
END:DAYLIGHT
BEGIN:STANDARD
TZOFFSETFROM:-0700
TZOFFSETTO:-0800
TZNAME:PST
DTSTART:20241103T090000
END:STANDARD
BEGIN:DAYLIGHT
TZOFFSETFROM:-0800
TZOFFSETTO:-0700
TZNAME:PDT
DTSTART:20250309T100000
END:DAYLIGHT
BEGIN:STANDARD
TZOFFSETFROM:-0700
TZOFFSETTO:-0800
TZNAME:PST
DTSTART:20251102T090000
END:STANDARD
BEGIN:DAYLIGHT
TZOFFSETFROM:-0800
TZOFFSETTO:-0700
TZNAME:PDT
DTSTART:20260308T100000
END:DAYLIGHT
BEGIN:STANDARD
TZOFFSETFROM:-0700
TZOFFSETTO:-0800
TZNAME:PST
DTSTART:20261101T090000
END:STANDARD
END:VTIMEZONE
BEGIN:VEVENT
DTSTART;TZID=America/Chicago:20250211T080000
DTEND;TZID=America/Chicago:20250211T170000
DTSTAMP:20260422T084157
CREATED:20250203T205034Z
LAST-MODIFIED:20250203T205034Z
UID:10000583-1739260800-1739293200@firesprinkler.org
SUMMARY:DFW AREA CHAPTER TRAINING
DESCRIPTION:There is a morning seminar and an identical afternoon seminar that will cover will detail the requirements in Chapter 5 of NFPA 25 and provide a comprehensive guide for individuals involved in the performance and enforcement of the ITM requirements in the standard. The topics covered include discussion of important definitions\, identification of inspection and test frequencies\, and classification of deficiencies (critical/noncritical) and impairments (emergency/preplanned). In addition\, participants will witness live demonstrations in AFSA’s Valve Lab. \nAt the completion of this presentation\, you should be able to: \n\nIdentify the required ITM activities and frequencies required for sprinkler systems\nClassify critical and noncritical deficiencies\nDetermine the appropriate sample sizes for sprinkler testing\n\nUnderstand and apply the appropriate procedures for impairments \n Register & More Info
URL:https://firesprinkler.org/calendarevent/dfw-area-chapter-training/
LOCATION:AFSA Headquarters\, 1410 East Renner Rd.\, Suite 150\, Richardson\, TX\, 75082\, United States
CATEGORIES:Chapter Event
ATTACH;FMTTYPE=image/png:https://firesprinkler.org/wp-content/uploads/2025/02/AFSA_DFW_Chapter.png
END:VEVENT
BEGIN:VEVENT
DTSTART;VALUE=DATE:20250227
DTEND;VALUE=DATE:20250228
DTSTAMP:20260422T084157
CREATED:20250213T175106Z
LAST-MODIFIED:20250213T175201Z
UID:10000597-1740614400-1740700799@firesprinkler.org
SUMMARY:Greater Bay Area Chapter AHJ Training 
DESCRIPTION:8 hours of total instruction \n Register & More Info
URL:https://firesprinkler.org/calendarevent/greater-bay-area-chapter-ahj-training/
LOCATION:DoubleTree\, 720 Las Flores Rd.\, Livermore\, CA\, 94551\, United States
CATEGORIES:Chapter Event
ATTACH;FMTTYPE=image/png:https://firesprinkler.org/wp-content/uploads/2025/02/Greater_Bay_Chapter.png
END:VEVENT
END:VCALENDAR